BEGIN:VCALENDAR
VERSION:2.0
PRODID:-//ChamberMaster//Event Calendar 2.0//EN
METHOD:PUBLISH
X-PUBLISHED-TTL:P3D
REFRESH-INTERVAL:P3D
CALSCALE:GREGORIAN
BEGIN:VEVENT
DTSTART:20250206T182000Z
DTEND:20250206T190000Z
X-MICROSOFT-CDO-ALLDAYEVENT:FALSE
SUMMARY:Weberstown Business Watch
DESCRIPTION:
X-ALT-DESC;FMTTYPE=text/html:
LOCATION:Weberstown Mall 4950 Pacific Ave Stockton\, CA
UID:e.2412.5074671
SEQUENCE:3
DTSTAMP:20260421T160218Z
URL:https://cm.stocktonchamber.org/events/details/weberstown-business-watch-5074671
END:VEVENT

END:VCALENDAR
