BEGIN:VCALENDAR
VERSION:2.0
PRODID:-//ChamberMaster//Event Calendar 2.0//EN
METHOD:PUBLISH
X-PUBLISHED-TTL:P3D
REFRESH-INTERVAL:P3D
CALSCALE:GREGORIAN
BEGIN:VEVENT
DTSTART:20210401T180000Z
DTEND:20210401T190000Z
X-MICROSOFT-CDO-ALLDAYEVENT:FALSE
SUMMARY:Virtual New Member Orientation
DESCRIPTION:New Member Orientation is where you review your Chamber benefits and meet the Staff\, Ambassadors and Chamber President via Zoom..  \n\n\n\n" When consumers know that a small business is a member of their local Chamber of Commerce\, they are 44% more likely to think favorably of it\, and they're a full 63% more likely to purchase goods or services from that company in the future." Kathleen Lanza - Columnist for Money News Now\n\n	Free Member Information Center - online advertising to 1350+ registered members\n	Advanced knowledge of City\, County and State Resources and Notices\n	Massive reach through live social media coverage of your Ribbon Cuttings/Grand Openings and Events\n	 Inspiring collaboration and networking events including Mixers\, Network4Success\, LunchNLearn and others\n	Leadership opportunities to grow yourself\, your resume and your business including Leadership Stockton\, Ambassador Committee\, Liaison Committee and Board of Director Positions\n	Yearly\, free email blast to 2000+ San Joaquin residents and more
X-ALT-DESC;FMTTYPE=text/html:<span style="font-family:arial\,sans-serif\;"><span style="font-size:10.5pt\;">New Member Orientation is where you review your Chamber benefits and meet the Staff\, Ambassadors and Chamber President via Zoom..&nbsp\;&nbsp\;</span></span><br />\n<br />\n<strong><em><span style="border:none windowtext 1.0pt\;padding:0in\;"><span style="color:#666666\;"><span style="font-family:helvetica\,sans-serif\;"><span style="font-size:10.0pt\;">&quot\; When consumers know that a small business is a member of their local Chamber of Commerce\, they are 44% more likely to think favorably of it\, and they&#39\;re a full 63% more likely to purchase goods or services from that company in the future.&quot\; Kathleen Lanza - Columnist for Money News Now</span></span></span></span></em></strong>\n<ul>\n	<li><strong><span style="font-family:calibri\,sans-serif\;"><span style="font-size:10.0pt\;">F</span></span></strong><span style="font-family:arial\,sans-serif\;"><span style="font-size:10.0pt\;">ree Member Information Center - online advertising to 1350+ registered members</span></span></li>\n	<li><strong><span style="font-family:calibri\,sans-serif\;"><span style="font-size:10.0pt\;">A</span></span></strong><span style="font-family:arial\,sans-serif\;"><span style="font-size:10.0pt\;">dvanced knowledge of City\, County and State Resources and Notices</span></span></li>\n	<li><strong><span style="font-family:calibri\,sans-serif\;"><span style="font-size:10.0pt\;">M</span></span></strong><span style="font-family:arial\,sans-serif\;"><span style="font-size:10.0pt\;">assive reach through live social media coverage of your Ribbon Cuttings/Grand Openings and Events</span></span></li>\n	<li><strong><span style="font-family:calibri\,sans-serif\;"><span style="font-size:10.0pt\;">&nbsp\;I</span></span></strong><span style="font-family:arial\,sans-serif\;"><span style="font-size:10.0pt\;">nspiring collaboration and networking events including Mixers\, Network4Success\, LunchNLearn and others</span></span></li>\n	<li><strong><span style="font-family:calibri\,sans-serif\;"><span style="font-size:10.0pt\;">L</span></span></strong><span style="font-family:arial\,sans-serif\;"><span style="font-size:10.0pt\;">eadership opportunities to grow yourself\, your resume and your business including Leadership Stockton\, Ambassador Committee\, Liaison Committee and Board of Director Positions</span></span></li>\n	<li><strong><span style="font-family:calibri\,sans-serif\;"><span style="font-size:10.0pt\;">Y</span></span></strong><span style="font-family:arial\,sans-serif\;"><span style="font-size:10.0pt\;">early\, free email blast to 2000+ San Joaquin residents and more</span></span></li>\n</ul>\n
LOCATION:Call or email Membership Director\, Roxy Jewell-Richardson for a Zoom invitation (209) 985-2780 roxy@stocktonchamber.org
UID:e.2412.5073639
SEQUENCE:3
DTSTAMP:20260426T024129Z
URL:https://cm.stocktonchamber.org/events/details/virtual-new-member-orientation-5073639
END:VEVENT

END:VCALENDAR
