BEGIN:VCALENDAR
VERSION:2.0
PRODID:-//ChamberMaster//Event Calendar 2.0//EN
METHOD:PUBLISH
X-PUBLISHED-TTL:P3D
REFRESH-INTERVAL:P3D
CALSCALE:GREGORIAN
BEGIN:VEVENT
DTSTART:20231006T000000Z
DTEND:20231006T020000Z
X-MICROSOFT-CDO-ALLDAYEVENT:FALSE
SUMMARY:Tradeshow Mixer
DESCRIPTION:Sign up now for the October Business Showcase & Trade Show! Space is given on a first paid\, first served basis so don't wait or you may risk missing your opportunity to participate. Reserve your space today! The October Trade Show will be held on Thursday\, October 5th from 5:00PM to 7:00PM at the University Plaza Waterfront Hotel\, 110 W. Fremont St\, Stockton. 95202. Admission to attend the October Trade Show is free and open to the general public. Tables are $300 for Chamber members and $375 for non-members. Reserve your space ASAP to be part of the pre-mixer publicity!\n\n\n\nThe theme for the Tradeshow will be Oktoberfest.  Celebrate Oktoberfest by dressing in your Oktoberfest costume and decorating your space for Oktoberfest!\n\n\n\nFor more information about exhibiting at or attending our October Business Trade Show & Passport mixer\, call Carolyn Teixeira Gomes at carolyn@stocktonchamber.org or (209) 292-8426.
X-ALT-DESC;FMTTYPE=text/html:Sign up now for the October Business Showcase &amp\; Trade Show! Space is given on a first paid\, first served basis so don&#39\;t wait or you may risk missing your opportunity to participate. Reserve your space today! The October Trade Show will be held on Thursday\, October 5th from 5:00PM to 7:00PM at the University Plaza Waterfront Hotel\, 110 W. Fremont St\, Stockton. 95202. Admission to attend the October Trade Show is free and open to the general public. Tables are $300 for Chamber members and $375 for non-members. Reserve your space ASAP to be part of the pre-mixer publicity!<br />\n<br />\nThe theme for the Tradeshow will be Oktoberfest.&nbsp\; Celebrate Oktoberfest by dressing in your Oktoberfest costume and decorating your space for Oktoberfest!<br />\n<br />\nFor more information about exhibiting at or attending our October Business Trade Show &amp\; Passport mixer\, call Carolyn Teixeira Gomes at carolyn@stocktonchamber.org or (209) 292-8426.
LOCATION:University Plaza Waterfront Hotel 110 W. Fremont St. Stockton\, CA 95202
UID:e.2412.5074038
SEQUENCE:3
DTSTAMP:20260422T150740Z
URL:https://cm.stocktonchamber.org/events/details/tradeshow-mixer-5074038
END:VEVENT

END:VCALENDAR
