BEGIN:VCALENDAR
VERSION:2.0
PRODID:-//ChamberMaster//Event Calendar 2.0//EN
METHOD:PUBLISH
X-PUBLISHED-TTL:P3D
REFRESH-INTERVAL:P3D
CALSCALE:GREGORIAN
BEGIN:VEVENT
DTSTART:20240318T230000Z
DTEND:20240319T010000Z
X-MICROSOFT-CDO-ALLDAYEVENT:FALSE
SUMMARY:The Kitchen @ Stonebrier 5-Year Anniversary
DESCRIPTION:Join us at The Kitchen @ StoneBrier for a ribbon cutting ceremony along with food\, wine and a fun evening of socializing for their 5-year anniversary.
X-ALT-DESC;FMTTYPE=text/html:<span style="font-size:18px\;">Join us at The Kitchen @ StoneBrier for a ribbon cutting ceremony along with food\, wine and a fun evening of socializing for their 5-year anniversary.</span>
LOCATION:4780 West Lane Stockton\, CA 95210
UID:e.2412.5074501
SEQUENCE:3
DTSTAMP:20260422T073447Z
URL:https://cm.stocktonchamber.org/events/details/the-kitchen-stonebrier-5-year-anniversary-5074501
END:VEVENT

END:VCALENDAR
