BEGIN:VCALENDAR
VERSION:2.0
PRODID:-//ChamberMaster//Event Calendar 2.0//EN
METHOD:PUBLISH
X-PUBLISHED-TTL:P3D
REFRESH-INTERVAL:P3D
CALSCALE:GREGORIAN
BEGIN:VEVENT
DTSTART:20260326T180000Z
DTEND:20260326T190000Z
X-MICROSOFT-CDO-ALLDAYEVENT:FALSE
SUMMARY:Stockton Chamber Open House
DESCRIPTION:We're kicking off our 125 Anniversary celebration with an Open House! Check out our new location\, meet the staff\, and learn more about Chamber benefits!
X-ALT-DESC;FMTTYPE=text/html:<span background-color:="" font-size:="" playfair="" style="font-family: " white-space-collapse:="">We&#39\;re kicking off our 125 Anniversary celebration with an Open House! Check out our new location\, meet the staff\, and learn more about Chamber benefits!</span>
LOCATION:1776 W. March Lane\, Suite 170 Stockton\,CA 95207
UID:e.2412.5075114
SEQUENCE:3
DTSTAMP:20260421T102723Z
URL:https://cm.stocktonchamber.org/events/details/stockton-chamber-open-house-5075114
END:VEVENT

END:VCALENDAR
