BEGIN:VCALENDAR
VERSION:2.0
PRODID:-//ChamberMaster//Event Calendar 2.0//EN
METHOD:PUBLISH
X-PUBLISHED-TTL:P3D
REFRESH-INTERVAL:P3D
CALSCALE:GREGORIAN
BEGIN:VEVENT
DTSTART:20240919T160000Z
DTEND:20240919T173000Z
X-MICROSOFT-CDO-ALLDAYEVENT:FALSE
SUMMARY:STAART: Pursuing the Penal Code & Navigating the FastSTAART.com Merchant Account
DESCRIPTION:Join the STAART Team and District Attorney's Office for an informational session about the penal codes relating to retail theft as well as a walkthrough of the FastSTAART Merchant Account.
X-ALT-DESC;FMTTYPE=text/html:Join the STAART Team and District Attorney&#39\;s Office for an informational session about the penal codes relating to retail theft as well as a walkthrough of the FastSTAART Merchant Account.
LOCATION:Tracy Chamber of Commerce 223 10th St Tracy\, CA 95376
UID:e.2412.5074631
SEQUENCE:3
DTSTAMP:20260421T222114Z
URL:https://cm.stocktonchamber.org/events/details/staart-pursuing-the-penal-code-navigating-the-faststaart-com-merchant-account-5074631
END:VEVENT

END:VCALENDAR
