BEGIN:VCALENDAR
VERSION:2.0
PRODID:-//ChamberMaster//Event Calendar 2.0//EN
METHOD:PUBLISH
X-PUBLISHED-TTL:P3D
REFRESH-INTERVAL:P3D
CALSCALE:GREGORIAN
BEGIN:VEVENT
DTSTART:20240912T160000Z
DTEND:20240912T173000Z
X-MICROSOFT-CDO-ALLDAYEVENT:FALSE
SUMMARY:STAART: Pursuing the Penal Code & Navigating the FastSTAART.com Merchant Account
DESCRIPTION:Join the STAART Team and District Attorney's Office for an informational session about the penal codes relating to retail theft as well as a walkthrough of the FastSTAART Merchant Account.
X-ALT-DESC;FMTTYPE=text/html:<span style="font-size:16px\;">Join the STAART Team and District Attorney&#39\;s Office for an informational session about the penal codes relating to retail theft as well as a walkthrough of the FastSTAART Merchant Account.</span>
LOCATION:San Joaquin County Worknet 6221 West Ln Suite 105 Stockton\, CA 95210
UID:e.2412.5074628
SEQUENCE:3
DTSTAMP:20260421T234807Z
URL:https://cm.stocktonchamber.org/events/details/staart-pursuing-the-penal-code-navigating-the-faststaart-com-merchant-account-09-12-2024-5074628
END:VEVENT

END:VCALENDAR
