BEGIN:VCALENDAR
VERSION:2.0
PRODID:-//ChamberMaster//Event Calendar 2.0//EN
METHOD:PUBLISH
X-PUBLISHED-TTL:P3D
REFRESH-INTERVAL:P3D
CALSCALE:GREGORIAN
BEGIN:VEVENT
DTSTART:20240301T163000Z
DTEND:20240301T173000Z
X-MICROSOFT-CDO-ALLDAYEVENT:FALSE
SUMMARY:STAART Meeting
DESCRIPTION:Stockton Takes Action Against Retail Theft (STAART) has begun!\n\n\nThe purpose of the STAART program is to address the serious epidemic devastating our business community\, costing our business community a tremendous amount of money\, time\, and future revenue. Moreover\, public and employee safety is compromised. Accordingly\, the STAART program will leverage existing efforts in combating retail theft in Stockton by proactively engaging in activities and actions to mitigate crime. STAART activities will include educational workshops and conference\, simplifying incident reporting through the development of an App\, and producing PSAs for social media platforms\, among other activities.\n\n\n\nThe Chamber is the largest business organization in Stockton and San Joaquin County\, The Chamber's mission is to aggressively promote an economically vibrant business community. The STAART program strengthens the Chamber's efforts\, for business security and prosperity\, and to determinedly pursue solutions to this paramount obstacle to an economic vibrant Stockton\, is consistent with the Chamber's Charter.\n\n\n\nThus\, the STAART program objective is to optimize the existing Business Watch program through total business participation and innovation.  Again\,  as the largest business organization in Stockton and San Joaquin County\, the Chamber is uniquely positioned to administer the STAART initiative in partnership with law enforcement and other stakeholders.\n\n\n\nGet involved! The next STAART Task Force meeting will be on Friday\, March 1 at 8:30 a.m. in the Chamber Conference Room. Contact Frank J. Ferral\, Chief Policy Officer at frank@stocktonchamber.org for more information or additions to the Agenda.\n\n\n\nAGENDA\n\n\n\n \n\n\n\nI             Call to Order\, Introductions\n\n\n\n \n\n\n\nII            Retail Theft & Insurance Coverage (30 minutes)\n\n\n\n              J. Douglas Dinjian\, CIC/CWCA\, Broker/Certified Insurance Counselor/Certified Workers Compensation Advisor\n\n\n\n \n\n\n\nIII           Retail Theft/Crime Reporting App Presentation (40 minutes)\n\n\n\n              Ed English\, President\, ELERTS Corporation\n\n\n\nGlen Sugimoto\, Director of Business Development\, ELERTS Corporation\n\n\n\n \n\n\n\nIV          Proposed Workshops\n\n\n\n              How to be a good witness\n\n\n\nHow to Report a Retail Theft\n\n\n\nBest Practices to prevent Retail Theft\n\n\n\nHow to start a business watch program\n\n\n\nEmployee Training\n\n\n\nTechnology/Surveillance Systems\n\n\n\nAccess Control (Safeway example)\n\n\n\nPhysical Store Layout\n\n\n\nOther\n\n\n\n \n\n\n\nV            Proposed State Legislation-Staff\n\n\n\n \n\n\n\nVI          Funding-Staff
X-ALT-DESC;FMTTYPE=text/html:<h1>Stockton Takes Action Against Retail Theft (STAART) has begun!</h1>\n<br />\nThe purpose of the STAART program is to address the serious epidemic devastating our business community\, costing our business community a tremendous amount of money\, time\, and future revenue. Moreover\, public and employee safety is compromised. Accordingly\, the STAART program will leverage existing efforts in combating retail theft in Stockton by proactively engaging in activities and actions to mitigate crime. STAART activities will include educational workshops and conference\, simplifying incident reporting through the development of an App\, and producing PSAs for social media platforms\, among other activities.<br />\n<br />\nThe Chamber is the largest business organization in Stockton and San Joaquin County\, The Chamber&rsquo\;s mission is to aggressively promote an economically vibrant business community. The STAART program strengthens the Chamber&rsquo\;s efforts\, for business security and prosperity\, and to determinedly pursue solutions to this paramount obstacle to an economic vibrant Stockton\, is consistent with the Chamber&rsquo\;s Charter.<br />\n<br />\nThus\, the STAART program objective is to optimize the existing Business Watch program through total business participation and innovation.&nbsp\; Again\,&nbsp\; as the largest business organization in Stockton and San Joaquin County\, the Chamber is uniquely positioned to administer the STAART initiative in partnership with law enforcement and other stakeholders.<br />\n<br />\nGet involved! The next STAART Task Force meeting will be on Friday\, March 1 at 8:30 a.m. in the Chamber Conference Room. Contact Frank J. Ferral\, Chief Policy Officer at frank@stocktonchamber.org for more information or additions to the Agenda.<br />\n<br />\nAGENDA<br />\n<br />\n&nbsp\;<br />\n<br />\nI&nbsp\; &nbsp\; &nbsp\; &nbsp\; &nbsp\; &nbsp\; &nbsp\;Call to Order\, Introductions<br />\n<br />\n&nbsp\;<br />\n<br />\nII&nbsp\; &nbsp\; &nbsp\; &nbsp\; &nbsp\; &nbsp\; Retail Theft &amp\; Insurance Coverage (30 minutes)<br />\n<br />\n&nbsp\; &nbsp\; &nbsp\; &nbsp\; &nbsp\; &nbsp\; &nbsp\; J. Douglas Dinjian\, CIC/CWCA\, Broker/Certified Insurance Counselor/Certified Workers Compensation Advisor<br />\n<br />\n&nbsp\;<br />\n<br />\nIII&nbsp\; &nbsp\; &nbsp\; &nbsp\; &nbsp\; &nbsp\;Retail Theft/Crime Reporting App Presentation (40 minutes)<br />\n<br />\n&nbsp\; &nbsp\; &nbsp\; &nbsp\; &nbsp\; &nbsp\; &nbsp\; Ed English\, President\, ELERTS Corporation<br />\n<br />\nGlen Sugimoto\, Director of Business Development\, ELERTS Corporation<br />\n<br />\n&nbsp\;<br />\n<br />\nIV&nbsp\; &nbsp\; &nbsp\; &nbsp\; &nbsp\; Proposed Workshops<br />\n<br />\n&nbsp\; &nbsp\; &nbsp\; &nbsp\; &nbsp\; &nbsp\; &nbsp\; How to be a good witness<br />\n<br />\nHow to Report a Retail Theft<br />\n<br />\nBest Practices to prevent Retail Theft<br />\n<br />\nHow to start a business watch program<br />\n<br />\nEmployee Training<br />\n<br />\nTechnology/Surveillance Systems<br />\n<br />\nAccess Control (Safeway example)<br />\n<br />\nPhysical Store Layout<br />\n<br />\nOther<br />\n<br />\n&nbsp\;<br />\n<br />\nV&nbsp\; &nbsp\; &nbsp\; &nbsp\; &nbsp\; &nbsp\; Proposed State Legislation-Staff<br />\n<br />\n&nbsp\;<br />\n<br />\nVI&nbsp\; &nbsp\; &nbsp\; &nbsp\; &nbsp\; Funding-Staff
LOCATION:445 W Weber Ave. Stockton\, CA 95203
UID:e.2412.5074499
SEQUENCE:3
DTSTAMP:20260422T073417Z
URL:https://cm.stocktonchamber.org/events/details/staart-meeting-5074499
END:VEVENT

END:VCALENDAR
