BEGIN:VCALENDAR
VERSION:2.0
PRODID:-//ChamberMaster//Event Calendar 2.0//EN
METHOD:PUBLISH
X-PUBLISHED-TTL:P3D
REFRESH-INTERVAL:P3D
CALSCALE:GREGORIAN
BEGIN:VEVENT
DTSTART:20240812T190000Z
DTEND:20240812T200000Z
X-MICROSOFT-CDO-ALLDAYEVENT:FALSE
SUMMARY:STAART Billboard Unveiling at the City of Manteca
DESCRIPTION:Join us and the Manteca Chamber of Commerce for a blue ribbon cutting and unveiling ceremony of the new STAART billboard in the City of Manteca!\n\n\nThe purpose of the STAART (Stockton Takes Action Against Retail Theft) program is to address the serious epidemic devastating our business community\, costing our business community a tremendous amount of money\, time\, and future revenue. As part of the program\, there are billboards around the county which promote that the San Joaquin community is watching.\n\n\n\nFor media Inquiries\, please contact Frank Ferral\, Chief Policy Officer\, Greater Stockton Chamber of Commerce at (209)292-8434 or Frank@stocktonchamber.org
X-ALT-DESC;FMTTYPE=text/html:<p><span style="font-size: 20px\;"><strong>Join us and the Manteca Chamber of Commerce for a blue ribbon cutting and unveiling ceremony of the new STAART billboard&nbsp\;in the City of Manteca!</strong></span></p>\n<br />\nThe purpose of the STAART (Stockton Takes Action Against Retail Theft) program is to address the serious epidemic devastating our business community\, costing our business community a tremendous amount of money\, time\, and future revenue. As part of the program\, there are billboards around the county which promote that the San Joaquin community is watching.<br />\n<br />\nFor media Inquiries\, please contact Frank Ferral\, Chief Policy Officer\, Greater Stockton Chamber of Commerce at (209)292-8434 or Frank@stocktonchamber.org
LOCATION:Next to the Billboard
UID:e.2412.5074619
SEQUENCE:3
DTSTAMP:20260422T010847Z
URL:https://cm.stocktonchamber.org/events/details/staart-billboard-unveiling-at-the-city-of-manteca-5074619
END:VEVENT

END:VCALENDAR
