BEGIN:VCALENDAR
VERSION:2.0
PRODID:-//ChamberMaster//Event Calendar 2.0//EN
METHOD:PUBLISH
X-PUBLISHED-TTL:P3D
REFRESH-INTERVAL:P3D
CALSCALE:GREGORIAN
BEGIN:VEVENT
DTSTART:20240829T180000Z
DTEND:20240829T200000Z
X-MICROSOFT-CDO-ALLDAYEVENT:FALSE
SUMMARY:STAART App and Camera Grant Launch
DESCRIPTION:Registration for the STAART App and Camera Grant Launch event is full.\n\nThe moment has arrived! We're thrilled to announce the launch of our Fast STAART app and Camera Grants on August 29th. Join us for a special luncheon to celebrate this milestone\, and we invite all businesses and community leaders to be part of it.
X-ALT-DESC;FMTTYPE=text/html:<span class="ng-scope" style="box-sizing: border-box\; color: rgb(169\, 68\, 66)\; font-family: Roboto\, sans-serif\; font-size: 14px\; background-color: rgb(242\, 222\, 222)\;">Registration for the&nbsp\;</span><strong class="ng-scope" style="box-sizing: border-box\; color: rgb(169\, 68\, 66)\; font-family: Roboto\, sans-serif\; font-size: 14px\; background-color: rgb(242\, 222\, 222)\;">STAART App and Camera Grant Launch</strong><span class="ng-scope" style="box-sizing: border-box\; color: rgb(169\, 68\, 66)\; font-family: Roboto\, sans-serif\; font-size: 14px\; background-color: rgb(242\, 222\, 222)\;">&nbsp\;event is full.</span><br />\n<span style="font-size:16px\;"><span background-color:="" segoe="" style="font-family: -apple-system\, BlinkMacSystemFont\, ">The moment has arrived! We&#39\;re thrilled to announce the launch of our Fast STAART app and Camera Grants on August 29th. Join us for a special luncheon to celebrate this milestone\, and we invite all businesses and community leaders to be part of it.</span></span>
LOCATION:Great Wolf Lodge 2500 Daniels St. Manteca\, CA 95337
UID:e.2412.5074623
SEQUENCE:3
DTSTAMP:20260422T021657Z
URL:https://cm.stocktonchamber.org/events/details/staart-app-and-camera-grant-launch-5074623
END:VEVENT

END:VCALENDAR
