BEGIN:VCALENDAR
VERSION:2.0
PRODID:-//ChamberMaster//Event Calendar 2.0//EN
METHOD:PUBLISH
X-PUBLISHED-TTL:P3D
REFRESH-INTERVAL:P3D
CALSCALE:GREGORIAN
BEGIN:VEVENT
DTSTART:20240716T153000Z
DTEND:20240716T163000Z
X-MICROSOFT-CDO-ALLDAYEVENT:FALSE
SUMMARY:POSTPONED STAART: How To Be a Good Witness
DESCRIPTION:The purpose of the STAART (Stockton Takes Action Against Retail Theft) program is to address the serious epidemic devastating our business community\, costing our business community a tremendous amount of money\, time\, and future revenue. As part of the program\, monthly workshops will be held to help educate our business owners and community to help support them in taking preventative actions against retail theft. Join us as we discuss 'how to be a good witness'.
X-ALT-DESC;FMTTYPE=text/html:<h1><span style="font-size: 13px\;">The purpose of the STAART (Stockton Takes Action Against Retail Theft) program is to address the serious epidemic devastating our business community\, costing our business community a tremendous amount of money\, time\, and future revenue. As part of the program\, monthly workshops will be held to help educate our business owners and community to help support them in taking preventative actions against retail theft. Join us as we discuss &#39\;how to be a good witness&#39\;.&nbsp\;</span></h1>\n
LOCATION:Fairfield Inn & Suites 262 Rocky Lane Lodi\, CA 95240
UID:e.2412.5074529
SEQUENCE:3
DTSTAMP:20260422T023014Z
URL:https://cm.stocktonchamber.org/events/details/postponed-staart-how-to-be-a-good-witness-5074529
END:VEVENT

END:VCALENDAR
