BEGIN:VCALENDAR
VERSION:2.0
PRODID:-//ChamberMaster//Event Calendar 2.0//EN
METHOD:PUBLISH
X-PUBLISHED-TTL:P3D
REFRESH-INTERVAL:P3D
CALSCALE:GREGORIAN
BEGIN:VEVENT
DTSTART:20231101T170000Z
DTEND:20231101T183000Z
X-MICROSOFT-CDO-ALLDAYEVENT:FALSE
SUMMARY:New Member Orientation
DESCRIPTION:New Member Orientation - Unlocking Your Chamber Membership\n\n\n\nAre you ready to dive into the full spectrum of opportunities that come with your Greater Stockton Chamber of Commerce membership? Our New Member Orientation is your gateway to a world of benefits\, programs\, and connections. \n\n\n\nWhether you're new to the Chamber or looking to refresh your understanding\, this session is designed to empower you with the knowledge and connections needed to thrive.\n\n\n\nWhat to Expect:\n\n\n\n- Discover Member Benefits: Gain a comprehensive understanding of the valuable benefits awaiting you as a Chamber member. Learn how to leverage these resources to advance your business and professional goals.\n\n- Connect and Introduce Yourself: Seize the opportunity to introduce yourself and your business to fellow members. Forge meaningful connections and share your unique story.\n\n- Meet Our Team: Interact with Chamber Staff\, Ambassadors\, and esteemed Board Members. Our team is here to support you\, and this is your chance to get to know the faces behind the Chamber.\n\n- Unlock Online Tools: In today's digital age\, we'll equip you with the knowledge to navigate the Chamber's website tools effectively. Feel free to bring your laptop for hands-on training and learn how to maximize your online presence within our community.\n\n\n\n\n\nRSVP Today:\n\nTo ensure we can accommodate everyone\, please RSVP by October 23\, 2023.\n\n\n\nHaving issues registering?\n\nEmail Michell Mercado\, Membership and Event Administrative Assistant at Michell@stocktonchamber.org for assistance.
X-ALT-DESC;FMTTYPE=text/html:<strong>New Member Orientation - Unlocking Your Chamber Membership</strong><br />\n<br />\nAre you ready to dive into the full spectrum of opportunities that come with your Greater Stockton Chamber of Commerce membership? Our New Member Orientation is your gateway to a world of benefits\, programs\, and connections.&nbsp\;<br />\n<br />\nWhether you&#39\;re new to the Chamber or looking to refresh your understanding\, this session is designed to empower you with the knowledge and connections needed to thrive.<br />\n<br />\n<strong>What to Expect:</strong><br />\n<br />\n- <strong>Discover Member Benefits</strong>: Gain a comprehensive understanding of the valuable benefits awaiting you as a Chamber member. Learn how to leverage these resources to advance your business and professional goals.<br />\n- <strong>Connect and Introduce Yourself:</strong> Seize the opportunity to introduce yourself and your business to fellow members. Forge meaningful connections and share your unique story.<br />\n- <strong>Meet Our Team:&nbsp\;</strong>Interact with Chamber Staff\, Ambassadors\, and esteemed Board Members. Our team is here to support you\, and this is your chance to get to know the faces behind the Chamber.<br />\n- <strong>Unlock Online Tools:</strong> In today&#39\;s digital age\, we&#39\;ll equip you with the knowledge to navigate the Chamber&#39\;s website tools effectively. Feel free to bring your laptop for hands-on training and learn how to maximize your online presence within our community.<br />\n<br />\n<br />\n<strong>RSVP Today:</strong><br />\nTo ensure we can accommodate everyone\, please RSVP by October 23\, 2023.<br />\n<br />\nHaving issues registering?<br />\nEmail Michell Mercado\, Membership and Event Administrative Assistant at Michell@stocktonchamber.org for assistance.
LOCATION:Stockton Chamber of Commerce 445 W. Weber Ave. #220 Stockton\, CA 95203
UID:e.2412.5073892
SEQUENCE:3
DTSTAMP:20260422T133602Z
URL:https://cm.stocktonchamber.org/events/details/new-member-orientation-11-01-2023-5073892
END:VEVENT

END:VCALENDAR
