BEGIN:VCALENDAR
VERSION:2.0
PRODID:-//ChamberMaster//Event Calendar 2.0//EN
METHOD:PUBLISH
X-PUBLISHED-TTL:P3D
REFRESH-INTERVAL:P3D
CALSCALE:GREGORIAN
BEGIN:VEVENT
DTSTART:20230406T234500Z
DTEND:20230407T021500Z
X-MICROSOFT-CDO-ALLDAYEVENT:FALSE
SUMMARY:Networking Mixer & Ribbon Cutting Delta Protective Services
DESCRIPTION:Greater Stockton Chamber of Commerce April Mixer at Delta Protective Services!  \n\n \n\n\nCome out and help celebrate Delta Protective Services 30 years in business and then stay for the mixer. \n\n \n\n\nEnjoy a Fun Evening of Socializing\, Food and Drinks. Mingle with local professionals\, gain information on exciting community programs\, and make lasting business connections.  \n\n \n\nContact the Greater Stockton Chamber of Commerce at 209.547.2770 if you need help registering.
X-ALT-DESC;FMTTYPE=text/html:<div class="OutlineElement Ltr SCXW133669650 BCX8" style="margin: 0px\; padding: 0px\; user-select: text\; -webkit-user-drag: none\; -webkit-tap-highlight-color: transparent\; overflow: visible\; cursor: text\; clear: both\; position: relative\; direction: ltr\; color: rgb(0\, 0\, 0)\; font-family: &quot\;Segoe UI&quot\;\, &quot\;Segoe UI Web&quot\;\, Arial\, Verdana\, sans-serif\; font-size: 12px\;">\n<p class="Paragraph SCXW133669650 BCX8" lang="EN-US" paraeid="{6927aafb-4cdd-4e05-908c-75a50d037212}{216}" paraid="1649214636" style="margin: 0px\; padding: 0px\; user-select: text\; -webkit-user-drag: none\; -webkit-tap-highlight-color: transparent\; overflow-wrap: break-word\; white-space: pre-wrap\; vertical-align: baseline\; font-kerning: none\; background-color: transparent\; color: windowtext\;" xml:lang="EN-US"><span class="TextRun SCXW133669650 BCX8" data-contrast="none" lang="EN-US" style="margin: 0px\; padding: 0px\; user-select: text\; -webkit-user-drag: none\; -webkit-tap-highlight-color: transparent\; font-variant-numeric: normal\; font-variant-east-asian: normal\; font-variant-alternates: normal\; color: rgb(51\, 51\, 51)\; font-size: 14pt\; font-style: normal\; line-height: 23.7417px\; font-family: Arial\, Arial_EmbeddedFont\, Arial_MSFontService\, sans-serif\; font-weight: bold\;" xml:lang="EN-US">Greater Stockton Chamber of Commerce&nbsp\;April Mixer at Delta Protective Services!&nbsp\;</span><span class="LineBreakBlob BlobObject DragDrop SCXW133669650 BCX8" style="margin: 0px\; padding: 0px\; user-select: text\; -webkit-user-drag: none\; -webkit-tap-highlight-color: transparent\; font-size: 14pt\; line-height: 23.7417px\; font-family: WordVisiCarriageReturn_MSFontService\, Arial\, Arial_EmbeddedFont\, Arial_MSFontService\, sans-serif\; color: rgb(51\, 51\, 51)\;"><span class="SCXW133669650 BCX8" style="margin: 0px\; padding: 0px\; user-select: text\; -webkit-user-drag: none\; -webkit-tap-highlight-color: transparent\; white-space: pre !important\;">&nbsp\;</span></span><br class="SCXW133669650 BCX8" style="margin: 0px\; padding: 0px\; user-select: text\; -webkit-user-drag: none\; -webkit-tap-highlight-color: transparent\; white-space: pre !important\;" />\n<span class="LineBreakBlob BlobObject DragDrop SCXW133669650 BCX8" style="margin: 0px\; padding: 0px\; user-select: text\; -webkit-user-drag: none\; -webkit-tap-highlight-color: transparent\; font-size: 14pt\; line-height: 23.7417px\; font-family: WordVisiCarriageReturn_MSFontService\, Arial\, Arial_EmbeddedFont\, Arial_MSFontService\, sans-serif\; color: rgb(51\, 51\, 51)\;"><span class="SCXW133669650 BCX8" style="margin: 0px\; padding: 0px\; user-select: text\; -webkit-user-drag: none\; -webkit-tap-highlight-color: transparent\; white-space: pre !important\;">&nbsp\;</span></span></p>\n</div>\n\n<p class="Paragraph SCXW133669650 BCX8" lang="EN-US" paraeid="{6927aafb-4cdd-4e05-908c-75a50d037212}{221}" paraid="838261476" style="margin: 0px\; padding: 0px\; user-select: text\; -webkit-user-drag: none\; -webkit-tap-highlight-color: transparent\; overflow-wrap: break-word\; white-space: pre-wrap\; vertical-align: baseline\; font-kerning: none\; background-color: transparent\; color: windowtext\;" xml:lang="EN-US"><span class="TextRun SCXW182797763 BCX8" data-contrast="none" lang="EN-US" style="margin: 0px\; padding: 0px\; user-select: text\; -webkit-user-drag: none\; -webkit-tap-highlight-color: transparent\; font-variant-numeric: normal\; font-variant-east-asian: normal\; font-variant-alternates: normal\; color: rgb(0\, 0\, 0)\; font-style: normal\; white-space: pre-wrap\; font-size: 15pt\; line-height: 24.8208px\; font-family: Arial\, Arial_EmbeddedFont\, Arial_MSFontService\, sans-serif\;" xml:lang="EN-US"><span class="NormalTextRun SCXW182797763 BCX8" style="margin: 0px\; padding: 0px\; user-select: text\; -webkit-user-drag: none\; -webkit-tap-highlight-color: transparent\;">Come out and help </span><span class="NormalTextRun SCXW182797763 BCX8" style="margin: 0px\; padding: 0px\; user-select: text\; -webkit-user-drag: none\; -webkit-tap-highlight-color: transparent\;">celebrate Delta Protective Services</span><span class="NormalTextRun SCXW182797763 BCX8" style="margin: 0px\; padding: 0px\; user-select: text\; -webkit-user-drag: none\; -webkit-tap-highlight-color: transparent\;"> 30 years in business and then stay for the mixer.</span></span><span class="EOP SCXW133669650 BCX8" data-ccp-props="{&quot\;201341983&quot\;:0\,&quot\;335551550&quot\;:1\,&quot\;335551620&quot\;:1\,&quot\;335559739&quot\;:160\,&quot\;335559740&quot\;:259}" style="margin: 0px\; padding: 0px\; user-select: text\; -webkit-user-drag: none\; -webkit-tap-highlight-color: transparent\; font-size: 15pt\; line-height: 24.8208px\; font-family: Arial\, Arial_EmbeddedFont\, Arial_MSFontService\, sans-serif\;">&nbsp\;</span><br class="SCXW133669650 BCX8" style="margin: 0px\; padding: 0px\; user-select: text\; -webkit-user-drag: none\; -webkit-tap-highlight-color: transparent\; white-space: pre !important\;" />\n<span class="EOP SCXW133669650 BCX8" data-ccp-props="{&quot\;201341983&quot\;:0\,&quot\;335551550&quot\;:1\,&quot\;335551620&quot\;:1\,&quot\;335559739&quot\;:160\,&quot\;335559740&quot\;:259}" style="margin: 0px\; padding: 0px\; user-select: text\; -webkit-user-drag: none\; -webkit-tap-highlight-color: transparent\; font-size: 11pt\; line-height: 19.425px\; font-family: Calibri\, Calibri_EmbeddedFont\, Calibri_MSFontService\, sans-serif\;">&nbsp\;</span></p>\n\n<div class="OutlineElement Ltr SCXW133669650 BCX8" style="margin: 0px\; padding: 0px\; user-select: text\; -webkit-user-drag: none\; -webkit-tap-highlight-color: transparent\; overflow: visible\; cursor: text\; clear: both\; position: relative\; direction: ltr\; color: rgb(0\, 0\, 0)\; font-family: &quot\;Segoe UI&quot\;\, &quot\;Segoe UI Web&quot\;\, Arial\, Verdana\, sans-serif\; font-size: 12px\;">\n<p class="Paragraph SCXW133669650 BCX8" lang="EN-US" paraeid="{6927aafb-4cdd-4e05-908c-75a50d037212}{231}" paraid="131792156" style="margin: 0px\; padding: 0px\; user-select: text\; -webkit-user-drag: none\; -webkit-tap-highlight-color: transparent\; overflow-wrap: break-word\; white-space: pre-wrap\; vertical-align: baseline\; font-kerning: none\; background-color: transparent\; color: windowtext\;" xml:lang="EN-US"><span class="TextRun SCXW133669650 BCX8" data-contrast="none" lang="EN-US" style="margin: 0px\; padding: 0px\; user-select: text\; -webkit-user-drag: none\; -webkit-tap-highlight-color: transparent\; font-variant-numeric: normal\; font-variant-east-asian: normal\; font-variant-alternates: normal\; font-size: 15pt\; font-style: normal\; line-height: 24.8208px\; font-family: Arial\, Arial_EmbeddedFont\, Arial_MSFontService\, sans-serif\;" xml:lang="EN-US">Enjoy a Fun Evening of Socializing\, Food and Drinks. </span><span class="TextRun SCXW133669650 BCX8" data-contrast="none" lang="EN-US" style="margin: 0px\; padding: 0px\; user-select: text\; -webkit-user-drag: none\; -webkit-tap-highlight-color: transparent\; font-variant-numeric: normal\; font-variant-east-asian: normal\; font-variant-alternates: normal\; font-size: 15pt\; font-style: normal\; line-height: 24.8208px\; font-family: Arial\, Arial_EmbeddedFont\, Arial_MSFontService\, sans-serif\;" xml:lang="EN-US"><span class="NormalTextRun SCXW133669650 BCX8" style="margin: 0px\; padding: 0px\; user-select: text\; -webkit-user-drag: none\; -webkit-tap-highlight-color: transparent\;">Mingle with local professionals\, gain information on exciting community programs\, and make lasting business connections.&nbsp\;</span></span><span style="font-size: 20px\; color: rgb(0\, 0\, 0)\;">&nbsp\;</span></p>\n</div>\n&nbsp\;<br />\n<span style="font-family:arial\,sans-serif\;"><span style="font-size:14.0pt\;">Contact the Greater Stockton Chamber of Commerce at 209.547.2770 if you need help registering.</span></span>
LOCATION:Delta Protective Services 141 E. Acacia Stockton\, CA 95202
UID:e.2412.5073988
SEQUENCE:3
DTSTAMP:20260423T010356Z
URL:https://cm.stocktonchamber.org/events/details/networking-mixer-ribbon-cutting-delta-protective-services-5073988
END:VEVENT

END:VCALENDAR
