BEGIN:VCALENDAR
VERSION:2.0
PRODID:-//ChamberMaster//Event Calendar 2.0//EN
METHOD:PUBLISH
X-PUBLISHED-TTL:P3D
REFRESH-INTERVAL:P3D
CALSCALE:GREGORIAN
BEGIN:VEVENT
DTSTART:20220825T190000Z
DTEND:20220825T200000Z
X-MICROSOFT-CDO-ALLDAYEVENT:FALSE
SUMMARY:Network4Success
DESCRIPTION:NETWORK4SUCCESS \n\nNetwork4Success is a referral group with the purpose of networking to build a circle of influence and share qualified business leads for growing each member's business.   Why pay hundreds of dollars to join a Leads group\, when we have one right here at the Greater Stockton Chamber of Commerce? Another great Chamber Member Benefit!
X-ALT-DESC;FMTTYPE=text/html:<h1 style="font-weight: 700\; font-variant-numeric: normal\; font-variant-east-asian: normal\; font-family: Arial\, Helvetica\, sans-serif\; font-size: 32px\;"><span style="color: rgb(53\, 53\, 53)\; font-family: &quot\;Open Sans&quot\;\; font-size: 14px\;">NETWORK4SUCCESS&nbsp\;<br />\n<span style="font-family:arial\;"><span style="font-size:12px\;">Network4Success is a&nbsp\;referral group with the&nbsp\;purpose of networking to build a circle of influence and share&nbsp\;qualified business leads for growing each member&rsquo\;s business.&nbsp\; &nbsp\;Why pay hundreds of dollars to join a Leads group\, when we have one right here at the Greater Stockton Chamber of Commerce? Another great Chamber Member Benefit!</span></span></span></h1>\n
LOCATION:Chamber Conference Room 445 W Weber Ave Suite 220 Stockton\, CA 95203
UID:e.2412.5073843
SEQUENCE:3
DTSTAMP:20260423T134926Z
URL:https://cm.stocktonchamber.org/events/details/network4success-5073843
END:VEVENT

END:VCALENDAR
