BEGIN:VCALENDAR
VERSION:2.0
PRODID:-//ChamberMaster//Event Calendar 2.0//EN
METHOD:PUBLISH
X-PUBLISHED-TTL:P3D
REFRESH-INTERVAL:P3D
CALSCALE:GREGORIAN
BEGIN:VEVENT
DTSTART:20240912T190000Z
DTEND:20240912T200000Z
X-MICROSOFT-CDO-ALLDAYEVENT:FALSE
SUMMARY:Network 4 Success
DESCRIPTION:Network4Success: Grow Your Business with Qualified Leads\n\nNetwork4Success is a bi-weekly meet-up where members share qualified business leads to help each other grow. Why pay hundreds of dollars to join a leads group when the Greater Stockton Chamber of Commerce offers this fantastic member benefit?\n\nOur group comprises Chamber Members known for their professionalism\, dedication\, and commitment to the Stockton business community and the Greater Stockton Chamber of Commerce.\n\nWhat You Can Expect:\n\n\n	Exchange Qualified Business Leads\n	Increase Sales & Referral Business\n	Nurture Strategic Partnerships
X-ALT-DESC;FMTTYPE=text/html:<p><span style="font-size:16px\;"><span style="font-family:arial\;"><strong>Network4Success: Grow Your Business with Qualified Leads</strong></span></span></p>\n\n<p><span style="font-size:14px\;"><span style="font-family:arial\;">Network4Success is a bi-weekly meet-up where members share qualified business leads to help each other grow. Why pay hundreds of dollars to join a leads group when the Greater Stockton Chamber of Commerce offers this fantastic member benefit?</span></span></p>\n\n<p><span style="font-size:14px\;"><span style="font-family:arial\;">Our group comprises Chamber Members known for their professionalism\, dedication\, and commitment to the Stockton business community and the Greater Stockton Chamber of Commerce.</span></span></p>\n\n<p><span style="font-size:16px\;"><span style="font-family:arial\;"><strong>What You Can Expect:</strong></span></span></p>\n\n<ul>\n	<li><span style="font-size:14px\;"><span style="font-family:arial\;">Exchange Qualified Business Leads</span></span></li>\n	<li><span style="font-size:14px\;"><span style="font-family:arial\;">Increase Sales &amp\; Referral Business</span></span></li>\n	<li><span style="font-size:14px\;"><span style="font-family:arial\;">Nurture Strategic Partnerships</span></span></li>\n</ul>\n
LOCATION:445 W. Weber Ave Suite 220 Stockton CA 95203
UID:e.2412.5074560
SEQUENCE:3
DTSTAMP:20260421T221544Z
URL:https://cm.stocktonchamber.org/events/details/network-4-success-5074560
END:VEVENT

END:VCALENDAR
