BEGIN:VCALENDAR
VERSION:2.0
PRODID:-//ChamberMaster//Event Calendar 2.0//EN
METHOD:PUBLISH
X-PUBLISHED-TTL:P3D
REFRESH-INTERVAL:P3D
CALSCALE:GREGORIAN
BEGIN:VEVENT
DTSTART:20260325T173000Z
DTEND:20260325T183000Z
X-MICROSOFT-CDO-ALLDAYEVENT:FALSE
SUMMARY:Lunch & Learn: :Long Term Care Insurance with Farzin Yassini
DESCRIPTION:Long Term Care Insurance: Protecting Your Financial Future\n\n\n\nLearn More About:\n\n\n	What LTC Insurance is\n	The financial impact of long term care\n	Planning ahead: Managing long term costs & future wealth
X-ALT-DESC;FMTTYPE=text/html:<strong><span style="font-size:18px\;">Long Term Care Insurance: Protecting Your Financial Future</span><br />\n<br />\n<span style="font-size:14px\;">Learn More About:</span></strong>\n\n<ul>\n	<li>What LTC Insurance is</li>\n	<li>The financial impact of long term care</li>\n	<li>Planning ahead: Managing long term costs &amp\; <strong>future wealth</strong></li>\n</ul>\n
LOCATION:Greater Stockton Chamber of Commerce 1776 W. March Lane\, Suite 170 Stockton\, CA 95207
UID:e.2412.5075115
SEQUENCE:3
DTSTAMP:20260421T102826Z
URL:https://cm.stocktonchamber.org/events/details/lunch-learn-long-term-care-insurance-with-farzin-yassini-5075115
END:VEVENT

END:VCALENDAR
