BEGIN:VCALENDAR
VERSION:2.0
PRODID:-//ChamberMaster//Event Calendar 2.0//EN
METHOD:PUBLISH
X-PUBLISHED-TTL:P3D
REFRESH-INTERVAL:P3D
CALSCALE:GREGORIAN
BEGIN:VEVENT
DTSTART:20241106T173000Z
DTEND:20241106T183000Z
X-MICROSOFT-CDO-ALLDAYEVENT:FALSE
SUMMARY:Lodi Retail Crime Awareness Event
DESCRIPTION:In Partnership with the Lodi Police Department and the Lodi Chamber of Commerce\n\nJoin us at the Fairfield by Marriot on November 6th from 9:30 AM to 10:30 AM for a crucial event focused on protecting your business from retail crime. This event is designed to help local merchants understand key strategies for crime prevention and build a safer retail environment.\n\nKey Topics:\n\n\n	Learn how to create a business account for retail crime reporting.\n	Engage in a Business Watch meeting with the Manteca Police Department to develop collaborative security efforts.\n	Discover how you can be part of a proactive community working together to combat retail theft.
X-ALT-DESC;FMTTYPE=text/html:<p style="box-sizing: border-box\; margin: 0px 0px 1rem\; padding: 0px\; font-size: 16px\; line-height: 1.6\; text-rendering: optimizelegibility\; color: rgb(34\, 34\, 34)\; font-family: Lato\, sans-serif\; background-color: rgb(254\, 254\, 254)\;"><span style="box-sizing: border-box\;"><span style="box-sizing: border-box\; font-size: 12px\;"><em style="box-sizing: border-box\; line-height: inherit\;">In Partnership with the Lodi Police Department&nbsp\;and the Lodi Chamber of Commerce</em></span><br style="box-sizing: border-box\;" />\nJoin us at the<strong> Fairfield by Marriot&nbsp\;</strong>on&nbsp\;<span style="box-sizing: border-box\; font-weight: bolder\; line-height: inherit\;">November 6th from 9:30 AM to 10:30 AM</span>&nbsp\;for a crucial event focused on protecting your business from retail crime. This event is designed to help local merchants understand key strategies for crime prevention and build a safer retail environment.</span></p>\n\n<p style="box-sizing: border-box\; margin: 0px 0px 1rem\; padding: 0px\; font-size: 16px\; line-height: 1.6\; text-rendering: optimizelegibility\; color: rgb(34\, 34\, 34)\; font-family: Lato\, sans-serif\; background-color: rgb(254\, 254\, 254)\;"><span style="box-sizing: border-box\;"><span style="box-sizing: border-box\; font-weight: bolder\; line-height: inherit\;">Key Topics:</span></span></p>\n\n<ul style="box-sizing: border-box\; margin: 0px 0px 1rem 1.25rem\; padding-right: 0px\; padding-left: 0px\; list-style-position: outside\; line-height: 1.6\; color: rgb(34\, 34\, 34)\; font-family: Helvetica\, Arial\, sans-serif\; font-size: 16px\; background-color: rgb(254\, 254\, 254)\;">\n	<li style="box-sizing: border-box\; margin: 0px\; padding: 0px\; font-size: inherit\; font-family: Lato\, sans-serif\;"><span style="box-sizing: border-box\;">Learn how to create a business account for retail crime reporting.</span></li>\n	<li style="box-sizing: border-box\; margin: 0px\; padding: 0px\; font-size: inherit\; font-family: Lato\, sans-serif\;"><span style="box-sizing: border-box\;">Engage in a&nbsp\;<span style="box-sizing: border-box\; font-weight: bolder\; line-height: inherit\;">Business Watch</span>&nbsp\;meeting with the Manteca Police Department to develop collaborative security efforts.</span></li>\n	<li style="box-sizing: border-box\; margin: 0px\; padding: 0px\; font-size: inherit\; font-family: Lato\, sans-serif\;"><span style="box-sizing: border-box\;">Discover how you can be part of a proactive community working together to combat retail theft.</span></li>\n</ul>\n
LOCATION:Fairfield by Marriot 262 Rocky Lane 95240
UID:e.2412.5074645
SEQUENCE:3
DTSTAMP:20260421T205910Z
URL:https://cm.stocktonchamber.org/events/details/lodi-retail-crime-awareness-event-5074645
END:VEVENT

END:VCALENDAR
