BEGIN:VCALENDAR
VERSION:2.0
PRODID:-//ChamberMaster//Event Calendar 2.0//EN
METHOD:PUBLISH
X-PUBLISHED-TTL:P3D
REFRESH-INTERVAL:P3D
CALSCALE:GREGORIAN
BEGIN:VEVENT
DTSTART:20240913T170000Z
DTEND:20240913T180000Z
X-MICROSOFT-CDO-ALLDAYEVENT:FALSE
SUMMARY:Kiki's Chicken Ribbon Cutting
DESCRIPTION:Grand Opening of Kiki's Chicken in Stockton! \n\nWe're excited to announce the grand opening of Kiki's Chicken right here in Stockton! Join us to celebrate the arrival of this popular eatery\, known for its crispy\, flavorful fried chicken\, delicious wings\, tenders\, and signature sauces that have won over fans across California. Whether you're a fan of spicy\, savory\, or sweet\, Kiki's Chicken has something for everyone!\n\nBring your friends and family to enjoy a taste of what everyone's been talking about\, and let's give Kiki's Chicken a warm Stockton welcome! We look forward to seeing you there!
X-ALT-DESC;FMTTYPE=text/html:<p><strong>Grand Opening of Kiki&rsquo\;s Chicken in Stockton!&nbsp\;</strong></p>\n\n<p>We&rsquo\;re excited to announce the grand opening of <strong>Kiki&rsquo\;s Chicken</strong> right here in Stockton!&nbsp\;Join us to celebrate the arrival of this popular eatery\, known for its crispy\, flavorful fried chicken\, delicious wings\, tenders\, and signature sauces that have won over fans across California. Whether you&rsquo\;re a fan of spicy\, savory\, or sweet\, Kiki&rsquo\;s Chicken has something for everyone!</p>\n\n<p>Bring your friends and family to enjoy a taste of what everyone&rsquo\;s been talking about\, and let&rsquo\;s give Kiki&rsquo\;s Chicken a warm Stockton welcome! We look forward to seeing you there!</p>\n
LOCATION:1537 N Wilson Way Stockton\, CA 95
UID:e.2412.5074629
SEQUENCE:3
DTSTAMP:20260421T222214Z
URL:https://cm.stocktonchamber.org/events/details/kiki-s-chicken-ribbon-cutting-5074629
END:VEVENT

END:VCALENDAR
