BEGIN:VCALENDAR
VERSION:2.0
PRODID:-//ChamberMaster//Event Calendar 2.0//EN
METHOD:PUBLISH
X-PUBLISHED-TTL:P3D
REFRESH-INTERVAL:P3D
CALSCALE:GREGORIAN
BEGIN:VEVENT
DTSTART:20240924T183000Z
DTEND:20240924T193000Z
X-MICROSOFT-CDO-ALLDAYEVENT:FALSE
SUMMARY:Jene Wah Inc. Ground Breaking Ceremony
DESCRIPTION:Join us for a momentous occasion as Jene Wah\, Inc. breaks ground on their new Community Center!\n\n\n\nFor over 44 years\, Jene Wah has been a cornerstone of social service in San Joaquin County\, dedicated to serving the Chinese American community. Founded by Henry Yip\, Ray Wong Quen\, and Samuel Chan\, this grass-roots organization has been providing essential support to elderly Chinese Americans\, helping them navigate social\, medical\, and government services despite language barriers.\n\nThe new Community Center will further Jene Wah's mission to offer vital\, accessible services to those in need. This groundbreaking ceremony marks a new chapter in their commitment to empowering the community. Be a part of this special event as we celebrate Jene Wah's enduring legacy and the exciting future ahead!
X-ALT-DESC;FMTTYPE=text/html:<p>Join us for a momentous occasion as Jene Wah\, Inc. breaks ground on their new Community Center!<br />\n<br />\nFor over 44 years\, Jene Wah has been a cornerstone of social service in San Joaquin County\, dedicated to serving the Chinese American community. Founded by Henry Yip\, Ray Wong Quen\, and Samuel Chan\, this grass-roots organization has been providing essential support to elderly Chinese Americans\, helping them navigate social\, medical\, and government services despite language barriers.</p>\n\n<p>The new Community Center will further Jene Wah&rsquo\;s mission to offer vital\, accessible services to those in need. This groundbreaking ceremony marks a new chapter in their commitment to empowering the community. Be a part of this special event as we celebrate Jene Wah&#39\;s enduring legacy and the exciting future ahead!</p>\n
LOCATION:5638 N Pershing Ave Stockton\, CA 95207
UID:e.2412.5074636
SEQUENCE:3
DTSTAMP:20260421T234511Z
URL:https://cm.stocktonchamber.org/events/details/jene-wah-inc-ground-breaking-ceremony-5074636
END:VEVENT

END:VCALENDAR
