BEGIN:VCALENDAR
VERSION:2.0
PRODID:-//ChamberMaster//Event Calendar 2.0//EN
METHOD:PUBLISH
X-PUBLISHED-TTL:P3D
REFRESH-INTERVAL:P3D
CALSCALE:GREGORIAN
BEGIN:VEVENT
DTSTART:20241113T170000Z
DTEND:20241113T180000Z
X-MICROSOFT-CDO-ALLDAYEVENT:FALSE
SUMMARY:Green Team of San Joaquin Meeting
DESCRIPTION:The Green Team San Joaquin\, an award-winning program of the Greater Stockton Chamber of Commerce\, connects businesses and the environment to address economic\, environmental\, and quality of life issues in San Joaquin County. Since its launch in 2005\, the program has helped businesses "go green\," reducing costs and encouraging collaboration with other green businesses.\n\nAt our next meeting\, we'll tour the Regional Transit District (RTD) and learn about their new hydrogen fuel cell electric\, zero-emission buses that promote clean air.
X-ALT-DESC;FMTTYPE=text/html:<p><span style="font-size:14px\;">The Green Team San Joaquin\, an award-winning program of the Greater Stockton Chamber of Commerce\, connects businesses and the environment to address economic\, environmental\, and quality of life issues in San Joaquin County. Since its launch in 2005\, the program has helped businesses &quot\;go green\,&quot\; reducing costs and encouraging collaboration with other green businesses.</span></p>\n\n<p><span style="font-size:14px\;">At our next meeting\, we&#39\;ll tour the <strong>Regional Transit District (RTD) </strong>and learn about their new hydrogen fuel cell electric\, zero-emission buses that promote clean air.</span></p>\n
LOCATION:Regional Transit District 2849 E Myrtle St Stockton\, CA 95205
UID:e.2412.5074538
SEQUENCE:3
DTSTAMP:20260421T205916Z
URL:https://cm.stocktonchamber.org/events/details/green-team-of-san-joaquin-meeting-10-09-2024-5074538
END:VEVENT

END:VCALENDAR
