BEGIN:VCALENDAR
VERSION:2.0
PRODID:-//ChamberMaster//Event Calendar 2.0//EN
METHOD:PUBLISH
X-PUBLISHED-TTL:P3D
REFRESH-INTERVAL:P3D
CALSCALE:GREGORIAN
BEGIN:VEVENT
DTSTART:20240911T160000Z
DTEND:20240911T170000Z
X-MICROSOFT-CDO-ALLDAYEVENT:FALSE
SUMMARY:Green Team of San Joaquin Meeting
DESCRIPTION:Meeting Details\n\nThe next Green Team San Joaquin meeting will be on Wednesday\, September 11th\, 2024\, at 9:00 a.m. IN PERSON at Greater Stockton Chamber of Commerce\, 445 West Weber Avenue\, Suite 220\, Stockton or via zoom. A zoom link is provided upon registration.\n\nWe will hear from Sam Maslin\, CEO of Eddy Energy\, as he speaks about the companies' mission and future expansion in San Joaquin County.\n\nEddy Energy was founded by cleantech veterans who believe that decarbonization will require the maximum use of all our infrastructure\, from the transmission lines along the highway to the distribution lines on your street. With deep experience and a clear strategic focus\, we are developing projects now to power the energy system of the future.\n\nWe will also hear from American Recycling Holdings\, LLC. They handle paper\, metals\, and organic waste recycling as well as product destruction. With a combined experience of more than 60 years in the recycling industry\, American Recycling has the skills that are essential to making your waste reduction goals achievable.\n\nThe meeting will then end with sub-committee updates on issues impacting our manufacturers\, industrial and distribution members. As always\, your input is vital to addressing those issues in advancing commerce in Stockton\, San Joaquin County and the State of California.\n\nFor virtual attendees\, please register to receive zoom link.
X-ALT-DESC;FMTTYPE=text/html:<h1 style="box-sizing: border-box\; margin: 5px 0px\; padding: 0px\; border: 0px\; font-variant-numeric: normal\; font-variant-east-asian: normal\; font-variant-alternates: normal\; font-kerning: auto\; font-optical-sizing: auto\; font-feature-settings: normal\; font-variation-settings: normal\; font-variant-position: normal\; font-stretch: normal\; font-size: 34px\; line-height: 38px\; font-family: Homenaje\; vertical-align: baseline\; color: rgb(54\, 104\, 0)\; background-color: rgb(255\, 255\, 255)\;"><span style="font-family:tahoma\;"><strong>Meeting Details</strong></span></h1>\n\n<p><span style="font-size:13.5pt\;color:black">The next Green Team San Joaquin meeting will be on Wednesday\, September 11th\, 2024\, at 9:00 a.m. IN PERSON at Greater Stockton Chamber of Commerce\, 445 West Weber Avenue\, Suite 220\, Stockton or via zoom. A zoom link is provided upon registration.<o:p></o:p></span></p>\n\n<p style="font-variant-ligatures: normal\;font-variant-caps: normal\;orphans: 2\;\ntext-align:start\;widows: 2\;-webkit-text-stroke-width: 0px\;text-decoration-thickness: initial\;\ntext-decoration-style: initial\;text-decoration-color: initial\;word-spacing:\n0px"><span style="font-size:13.5pt\;color:black">We will hear from Sam Maslin\, CEO of Eddy Energy\, as he speaks about the companies&rsquo\; mission and future expansion in San Joaquin County.<o:p></o:p></span></p>\n\n<p style="font-variant-ligatures: normal\;font-variant-caps: normal\;orphans: 2\;\ntext-align:start\;widows: 2\;-webkit-text-stroke-width: 0px\;text-decoration-thickness: initial\;\ntext-decoration-style: initial\;text-decoration-color: initial\;word-spacing:\n0px"><span style="font-size:13.5pt\;color:black">Eddy Energy was founded by cleantech veterans who believe that decarbonization will require the maximum use of all our infrastructure\, from the transmission lines along the highway to the distribution lines on your street. With deep experience and a clear strategic focus\, we are developing projects now to power the energy system of the future.<o:p></o:p></span></p>\n\n<p style="font-variant-ligatures: normal\;font-variant-caps: normal\;orphans: 2\;\ntext-align:start\;widows: 2\;-webkit-text-stroke-width: 0px\;text-decoration-thickness: initial\;\ntext-decoration-style: initial\;text-decoration-color: initial\;word-spacing:\n0px"><span style="font-size:13.5pt\;color:black">We will also hear from American Recycling Holdings\, LLC. They handle paper\, metals\, and organic waste recycling as well as product destruction. With a combined experience of more than 60 years in the recycling industry\, American Recycling has the skills that are essential to making your waste reduction goals achievable.<o:p></o:p></span></p>\n\n<p><span style="font-size:13.5pt\;color:black">The meeting will then end with sub-committee updates on issues impacting our manufacturers\, industrial and distribution members. As always\, your input is vital to addressing those issues in advancing commerce in Stockton\, San Joaquin County and the State of California.<o:p></o:p></span></p>\n\n<p style="font-variant-ligatures: normal\;font-variant-caps: normal\;orphans: 2\;\ntext-align:start\;widows: 2\;-webkit-text-stroke-width: 0px\;text-decoration-thickness: initial\;\ntext-decoration-style: initial\;text-decoration-color: initial\;word-spacing:\n0px"><span style="font-size:13.5pt\;color:black"><em><strong>For virtual attendees\, please register to receive zoom link.</strong></em><o:p></o:p></span></p>\n
LOCATION:Greater Stockton Chamber of Commerce 445 W Weber Ave Ste 220 Stockton\, CA 95203
UID:e.2412.5074537
SEQUENCE:3
DTSTAMP:20260421T222418Z
URL:https://cm.stocktonchamber.org/events/details/green-team-of-san-joaquin-meeting-09-11-2024-5074537
END:VEVENT

END:VCALENDAR
