BEGIN:VCALENDAR
VERSION:2.0
PRODID:-//ChamberMaster//Event Calendar 2.0//EN
METHOD:PUBLISH
X-PUBLISHED-TTL:P3D
REFRESH-INTERVAL:P3D
CALSCALE:GREGORIAN
BEGIN:VEVENT
DTSTART:20240814T160000Z
DTEND:20240814T170000Z
X-MICROSOFT-CDO-ALLDAYEVENT:FALSE
SUMMARY:Green Team of San Joaquin Meeting
DESCRIPTION:About Green Team San Joaquin\n\nThe Green Team San Joaquin\, an award-winning program of the Greater Stockton Chamber of Commerce\, is a collaborative effort between private businesses\, municipal and county solid waste divisions\, economic development professionals and the community of San Joaquin County.\n\n \n\nAugust Agenda\n\nThe next Green Team San Joaquin meeting will be on Wednesday\, August 14th\, 2024\, at 9:00 a.m. IN PERSON at Greater Stockton Chamber of Commerce\, 445 West Weber Avenue\, Suite 220\, Stockton or via zoom. A zoom link is provided upon registration.
X-ALT-DESC;FMTTYPE=text/html:<h1 style="box-sizing: border-box\; margin: 5px 0px\; padding: 0px\; border: 0px\; font-variant-numeric: normal\; font-variant-east-asian: normal\; font-variant-alternates: normal\; font-kerning: auto\; font-optical-sizing: auto\; font-feature-settings: normal\; font-variation-settings: normal\; font-variant-position: normal\; font-stretch: normal\; font-size: 34px\; line-height: 38px\; font-family: Homenaje\; vertical-align: baseline\; color: rgb(54\, 104\, 0)\; background-color: rgb(255\, 255\, 255)\;"><span style="font-family:tahoma\;"><strong>About Green Team San Joaquin</strong></span></h1>\n\n<p background-color:="" color:="" font-feature-settings:="" font-kerning:="" font-optical-sizing:="" font-variation-settings:="" open="" style="box-sizing: border-box\; margin: 0px 0px 8px\; padding: 0px\; border: 0px\; font-variant-numeric: inherit\; font-variant-east-asian: inherit\; font-variant-alternates: inherit\; font-variant-position: inherit\; font-stretch: inherit\; font-size: 14px\; line-height: inherit\; font-family: " vertical-align:="">The&nbsp\;<strong style="box-sizing: border-box\; margin: 0px\; padding: 0px\; border: 0px\; font-style: inherit\; font-variant: inherit\; font-stretch: inherit\; font-size: inherit\; line-height: inherit\; font-family: inherit\; font-optical-sizing: inherit\; font-kerning: inherit\; font-feature-settings: inherit\; font-variation-settings: inherit\; vertical-align: baseline\;">Green Team San Joaquin</strong>\,&nbsp\;an award-winning program of the Greater Stockton Chamber of Commerce\, is a collaborative effort between private businesses\, municipal and county solid waste divisions\, economic development professionals and the community of San Joaquin County.<br />\n&nbsp\;</p>\n\n<h1 style="box-sizing: border-box\; margin: 5px 0px\; padding: 0px\; border: 0px\; font-variant-numeric: normal\; font-variant-east-asian: normal\; font-variant-alternates: normal\; font-kerning: auto\; font-optical-sizing: auto\; font-feature-settings: normal\; font-variation-settings: normal\; font-variant-position: normal\; font-stretch: normal\; font-size: 34px\; line-height: 38px\; font-family: Homenaje\; vertical-align: baseline\; color: rgb(54\, 104\, 0)\; background-color: rgb(255\, 255\, 255)\;"><strong><span style="font-family:tahoma\;">August Agenda</span></strong></h1>\n\n<p style="box-sizing: border-box\; margin: 0px 0px 8px\; padding: 0px\; border: 0px\; font-variant-numeric: inherit\; font-variant-east-asian: inherit\; font-variant-alternates: inherit\; font-variant-position: inherit\; font-stretch: inherit\; font-size: 14px\; line-height: inherit\; font-family: &quot\;Open Sans&quot\;\; font-optical-sizing: inherit\; font-kerning: inherit\; font-feature-settings: inherit\; font-variation-settings: inherit\; vertical-align: baseline\; color: rgb(102\, 102\, 102)\; background-color: rgb(255\, 255\, 255)\;"><span style="font-family:arial\;"><span style="font-size:14px\;">The next Green Team San Joaquin meeting will be on <u>Wednesday\, August 14<sup>th</sup>\, 2024\, at 9:00 a.m</u>. IN PERSON at Greater Stockton Chamber of Commerce\, 445 West Weber Avenue\, Suite 220\, Stockton or via zoom. A zoom link is provided upon registration.</span></span></p>\n
LOCATION:Greater Stockton Chamber of Commerce 445 W Weber Ave Ste 220 Stockton\, CA 95203
UID:e.2412.5074536
SEQUENCE:3
DTSTAMP:20260422T010846Z
URL:https://cm.stocktonchamber.org/events/details/green-team-of-san-joaquin-meeting-08-14-2024-5074536
END:VEVENT

END:VCALENDAR
