BEGIN:VCALENDAR
VERSION:2.0
PRODID:-//ChamberMaster//Event Calendar 2.0//EN
METHOD:PUBLISH
X-PUBLISHED-TTL:P3D
REFRESH-INTERVAL:P3D
CALSCALE:GREGORIAN
BEGIN:VEVENT
DTSTART:20240820T153000Z
DTEND:20240820T170000Z
X-MICROSOFT-CDO-ALLDAYEVENT:FALSE
SUMMARY:Getting Started with the Fast STAART App
DESCRIPTION:Join us for a demonstration walkthrough of our new retail theft-reporting app\, FAST STAART.\n\nDiscover:\n\n\n	\n	Key features of the STAART App\n	\n	 How to apply for the camera grant\n	\n	Integrating the app and grant into your business\n	\n\n\nThe purpose of the STAART (Stockton Takes Action Against Retail Theft) program is to address the serious epidemic devastating our business community\, costing our business community a tremendous amount of money\, time\, and future revenue. As part of the program\, monthly workshops will be held to help educate our business owners and community to help support them in taking preventative actions against retail theft.
X-ALT-DESC;FMTTYPE=text/html:<h1 trebuchet=""><strong><span style="font-size: 20px\;">Join us for a demonstration walkthrough of&nbsp\;our new retail theft-reporting app\, FAST STAART.</span></strong></h1>\n\n<h1 trebuchet=""><span style="font-family: arial\;"><span style="font-size: 14px\;"><strong style="font-size: 13px\;">Discover:</strong></span></span></h1>\n\n<ul>\n	<li>\n	<p style="line-height: 1.2\;" trebuchet=""><span style="font-family: arial\;"><span style="font-size: 14px\;"><strong style="font-size: 13px\;">Key features of the STAART App</strong></span></span></p>\n	</li>\n	<li><span style="font-family: arial\;"><span style="font-size: 14px\;">&#8203\;How to apply for the camera grant</span></span></li>\n	<li>\n	<p><span style="font-family: arial\;"><span style="font-size: 14px\;">Integrating the app and grant into your business</span></span></p>\n	</li>\n</ul>\n\n<p style="line-height: 1.2\;" trebuchet=""><span style="font-family: arial\;"><span style="font-size: 14px\;">The purpose of the&nbsp\;<strong>STAART (Stockton Takes Action Against Retail Theft)</strong>&nbsp\;program is to address the serious epidemic devastating our business community\, costing our business community a tremendous amount of money\, time\, and future revenue. As part of the program\, monthly workshops will be held to help educate our business owners and community to help support them in taking preventative actions against retail theft.&nbsp\;</span></span></p>\n
LOCATION:Lodi Bowling Lounge & Bar
UID:e.2412.5074618
SEQUENCE:3
DTSTAMP:20260422T022907Z
URL:https://cm.stocktonchamber.org/events/details/getting-started-with-the-fast-staart-app-08-20-2024-5074618
END:VEVENT

END:VCALENDAR
