BEGIN:VCALENDAR
VERSION:2.0
PRODID:-//ChamberMaster//Event Calendar 2.0//EN
METHOD:PUBLISH
X-PUBLISHED-TTL:P3D
REFRESH-INTERVAL:P3D
CALSCALE:GREGORIAN
BEGIN:VEVENT
DTSTART:20140504T070000Z
DTEND:20140504T070000Z
X-MICROSOFT-CDO-ALLDAYEVENT:FALSE
SUMMARY:First Aid/CPR class in Manteca
DESCRIPTION:The Heartsaver First-aid/CPR/AED class covers the following topics: bleeding control\, seizures\, epi pen use\, allergic reactions\, snake bites\, broken bones\, poisoning\, CPR for adults\, children\, and infants\, chokesaving\, how to use an AED (automated external defibrillators)\, and other life threatening emergencies. \nTo register\, please click here: http://www.cprseminars.com/course-catalog/heartsaver-cpraedfirst-aid/
X-ALT-DESC;FMTTYPE=text/html:The Heartsaver First-aid/CPR/AED class covers the following topics: bleeding control\, seizures\, epi pen use\, allergic reactions\, snake bites\, broken bones\, poisoning\, CPR for adults\, children\, and infants\, chokesaving\, how to use an AED (automated external defibrillators)\, and other life threatening emergencies. \nTo register\, please click here: http://www.cprseminars.com/course-catalog/heartsaver-cpraedfirst-aid/
LOCATION:620 East Yosemite Avenue Manteca\, CA 95336
UID:e.2412.5066908
SEQUENCE:3
DTSTAMP:20260421T084840Z
URL:https://cm.stocktonchamber.org/events/details/first-aid-cpr-class-in-manteca-05-04-2014-5066908
END:VEVENT

END:VCALENDAR
