BEGIN:VCALENDAR
VERSION:2.0
PRODID:-//ChamberMaster//Event Calendar 2.0//EN
METHOD:PUBLISH
X-PUBLISHED-TTL:P3D
REFRESH-INTERVAL:P3D
CALSCALE:GREGORIAN
BEGIN:VEVENT
DTSTART:20240501T170000Z
DTEND:20240501T190000Z
X-MICROSOFT-CDO-ALLDAYEVENT:FALSE
SUMMARY:Ethero Truck + Energy Grand Opening
DESCRIPTION:Step inside Stockton's exclusively electric trucking service center and dealership. ETHERO\, part of the Nikola\, Kalmar TX\, and Harbinger dealer networks\, provides end-to-end sales\, service and support for Northern California Fleets transitioning to zero emissions. Tour the Stockton location and see the future of clean\, efficient commercial transportation in action.
X-ALT-DESC;FMTTYPE=text/html:Step inside Stockton&rsquo\;s exclusively electric trucking service center and dealership. ETHERO\, part of the Nikola\, Kalmar TX\, and Harbinger dealer networks\, provides end-to-end sales\, service and support for Northern California Fleets transitioning to zero emissions. Tour the Stockton location and see the future of clean\, efficient commercial transportation in action.
LOCATION:188 Frank West Circle\, Suite A\, Stockton\, CA 95206
UID:e.2412.5074513
SEQUENCE:3
DTSTAMP:20260422T061917Z
URL:https://cm.stocktonchamber.org/events/details/ethero-truck-energy-grand-opening-5074513
END:VEVENT

END:VCALENDAR
