BEGIN:VCALENDAR
VERSION:2.0
PRODID:-//ChamberMaster//Event Calendar 2.0//EN
METHOD:PUBLISH
X-PUBLISHED-TTL:P3D
REFRESH-INTERVAL:P3D
CALSCALE:GREGORIAN
BEGIN:VEVENT
DTSTART:20220826T001500Z
DTEND:20220826T021500Z
X-MICROSOFT-CDO-ALLDAYEVENT:FALSE
SUMMARY:Diversity Mixer
DESCRIPTION:Don't miss one of the biggest events of the year!\n\n Mark your calendars for the Annual Summer Diversity Mixer held at the Port of Stockton's Albert Lindley House on Thursday\, August 25th\, 2022 from 5:15 to 7:15 PM.\n\nWe'll see you there!
X-ALT-DESC;FMTTYPE=text/html:<div align="center" style="color: rgb(64\, 63\, 66)\; font-family: Arial\, Verdana\, Helvetica\, sans-serif\; font-size: 12px\; text-align: center\;"><span style="font-size: 20px\; font-family: Georgia\, &quot\;Times New Roman&quot\;\, Times\, serif\;">Don&#39\;t miss one of the biggest events of the year!</span></div>\n\n<div align="center" style="color: rgb(64\, 63\, 66)\; font-family: Arial\, Verdana\, Helvetica\, sans-serif\; font-size: 12px\; text-align: center\;"><span style="font-size: 20px\; font-family: Georgia\, &quot\;Times New Roman&quot\;\, Times\, serif\;">&#65279\;Mark your calendars for the&nbsp\;</span><span style="font-size: 20px\; font-family: Georgia\, &quot\;Times New Roman&quot\;\, Times\, serif\; color: rgb(54\, 97\, 189)\; font-weight: bold\;">Annual Summer Diversity Mixer</span><span style="font-size: 20px\; font-family: Georgia\, &quot\;Times New Roman&quot\;\, Times\, serif\;">&nbsp\;held at the Port of Stockton&#39\;s Albert Lindley House on Thursday\, August 25th\, 2022 from 5:15 to 7:15 PM.</span></div>\n\n<div align="center" style="color: rgb(64\, 63\, 66)\; font-family: Arial\, Verdana\, Helvetica\, sans-serif\; font-size: 12px\; text-align: center\;"><span style="font-size: 20px\; font-family: Georgia\, &quot\;Times New Roman&quot\;\, Times\, serif\; font-style: italic\;">We&#39\;ll see you there!</span></div>\n
LOCATION:Port of Stockton Albert Lindley House 1 Fyffe Ave\, Stockton\, CA 95203
UID:e.2412.5073848
SEQUENCE:3
DTSTAMP:20260423T135045Z
URL:https://cm.stocktonchamber.org/events/details/diversity-mixer-5073848
END:VEVENT

END:VCALENDAR
