BEGIN:VCALENDAR
VERSION:2.0
PRODID:-//ChamberMaster//Event Calendar 2.0//EN
METHOD:PUBLISH
X-PUBLISHED-TTL:P3D
REFRESH-INTERVAL:P3D
CALSCALE:GREGORIAN
BEGIN:VEVENT
DTSTART:20140630T070000Z
DTEND:20140630T070000Z
X-MICROSOFT-CDO-ALLDAYEVENT:FALSE
SUMMARY:Child CPR Classes in Manteca
DESCRIPTION:The American Heart Association CPR Class is a great to learn how to perform CPR on an adult\, child and infant. You will also learn how to us the AED and choke-saving.\n\nOur classes have a lot of interaction and you will get to practice with the manikins. We recommend wearing comfortable clothing.\n\nPlease check our website for the complete list of dates and times!\nhttp://www.cprseminars.com/course-catalog/heartsaver-cpraed/
X-ALT-DESC;FMTTYPE=text/html:The American Heart Association CPR Class is a great to learn how to perform CPR on an adult\, child and infant. You will also learn how to us the AED and choke-saving.\n\nOur classes have a lot of interaction and you will get to practice with the manikins. We recommend wearing comfortable clothing.\n\nPlease check our website for the complete list of dates and times!\nhttp://www.cprseminars.com/course-catalog/heartsaver-cpraed/
LOCATION:Manteca CPR Classes Between Johnny’s Restaurant & Spreckles Dental 620 East Yosemite Avenue Manteca\, CA 95336 209-817-8464
UID:e.2412.5067411
SEQUENCE:3
DTSTAMP:20260419T135526Z
URL:https://cm.stocktonchamber.org/events/details/child-cpr-classes-in-manteca-06-30-2014-5067411
END:VEVENT

END:VCALENDAR
