BEGIN:VCALENDAR
VERSION:2.0
PRODID:-//ChamberMaster//Event Calendar 2.0//EN
METHOD:PUBLISH
X-PUBLISHED-TTL:P3D
REFRESH-INTERVAL:P3D
CALSCALE:GREGORIAN
BEGIN:VEVENT
DTSTART:20230323T150000Z
DTEND:20230323T170000Z
X-MICROSOFT-CDO-ALLDAYEVENT:FALSE
SUMMARY:BEA Breakfast Symposium
DESCRIPTION:Join us for our second BEA Breakfast Symposium of the year!\n\n \nCome learn about work-based opportunities and how we can all benefit when we grow our own workforce.
X-ALT-DESC;FMTTYPE=text/html:Join us for our second BEA Breakfast Symposium of the year!<br />\n&nbsp\;\n<p class="_04xlpA direction-ltr align-center para-style-subtitle" style="color: rgb(47\, 41\, 43)\; font-family: &quot\;YAFLd8sKbwc 2&quot\;\, _fb_\, auto\; --font-size:18.6666px\; --line-height:1.35\; letter-spacing: 0.06em\; line-height: 25px\;"><span style="font-family:arial\;"><span class="S1PPyQ">Come learn about work-based opportunities and how we can all benefit when we grow our own workforce.</span></span></p>\n
LOCATION:Stockton Golf & Country Club 3800 Country Club Blvd Stockton\, CA 95204
UID:e.2412.5073976
SEQUENCE:3
DTSTAMP:20260423T024501Z
URL:https://cm.stocktonchamber.org/events/details/bea-breakfast-symposium-5073976
END:VEVENT

END:VCALENDAR
