BEGIN:VCALENDAR
VERSION:2.0
PRODID:-//ChamberMaster//Event Calendar 2.0//EN
METHOD:PUBLISH
X-PUBLISHED-TTL:P3D
REFRESH-INTERVAL:P3D
CALSCALE:GREGORIAN
BEGIN:VEVENT
DTSTART:20190802T001500Z
DTEND:20190802T021500Z
X-MICROSOFT-CDO-ALLDAYEVENT:FALSE
SUMMARY:August Networking Mixer
DESCRIPTION:Join us for our August Networking Mixer\, Thursday August 1\, 5:15pm-7:15pm at Premier Staffing Stockton (4521 Quail Lakes Dr.\, Stockton\, CA 95207).  Don't miss the networking\, delicious food\, drinks\, raffle prizes and fun!
X-ALT-DESC;FMTTYPE=text/html:Join us for our August Networking Mixer\, Thursday August 1\, 5:15pm-7:15pm at <span style="color: rgb(53\, 53\, 53)\; background-color: rgb(255\, 255\, 255)\;">Premier Staffing Stockton (</span>4521 Quail Lakes Dr.\,<span style="color: rgb(53\, 53\, 53)\; background-color: rgb(255\, 255\, 255)\;">&nbsp\;Stockton\, CA 95207).&nbsp\;</span> Don&#39\;t miss the networking\, delicious food\, drinks\, raffle prizes and fun!
LOCATION:August Networking Mixer Thursday\, August 1\, 2019\, 5:15pm - 7:15pm Hosted by Premier Staffing Stockton (4521 Quail Lakes Dr.\, Stockton\, CA 95207).
UID:e.2412.5071323
SEQUENCE:3
DTSTAMP:20260421T020218Z
URL:https://cm.stocktonchamber.org/events/details/august-networking-mixer-5071323
END:VEVENT

END:VCALENDAR
