BEGIN:VCALENDAR
VERSION:2.0
PRODID:-//ChamberMaster//Event Calendar 2.0//EN
METHOD:PUBLISH
X-PUBLISHED-TTL:P3D
REFRESH-INTERVAL:P3D
CALSCALE:GREGORIAN
BEGIN:VEVENT
DTSTART:20220830T180000Z
DTEND:20220830T203000Z
X-MICROSOFT-CDO-ALLDAYEVENT:FALSE
SUMMARY:Ambassador Kick-Off/Training
DESCRIPTION:Ambassador Kick-Off and Training \n\nThis Annual Event is for Ambassadors and Chamber Members who wish to be Ambassadors.  The new Ambassador Program will be rolled out\,\n\ntraining on the Ambassador Role at your Greater Stockton Chamber of Commerce and prizes!\n\nLimited Seating.  RSVP Required!\n\nLunch will be catered by Heritage Provisions and Dining
X-ALT-DESC;FMTTYPE=text/html:Ambassador Kick-Off and Training&nbsp\;<br />\nThis Annual Event is for Ambassadors and Chamber Members who wish to be Ambassadors.&nbsp\; The new Ambassador Program will be rolled out\,<br />\ntraining on the Ambassador Role at your Greater Stockton Chamber of Commerce and prizes!<br />\nLimited Seating.&nbsp\; RSVP Required!<br />\nLunch will be catered by Heritage Provisions and Dining
LOCATION:Waterloo Gun & Bocce Club 4343 N Ashley Ln\, Stockton\, CA 95215
UID:e.2412.5073859
SEQUENCE:3
DTSTAMP:20260423T135137Z
URL:https://cm.stocktonchamber.org/events/details/ambassador-kick-off-training-5073859
END:VEVENT

END:VCALENDAR
