BEGIN:VCALENDAR
VERSION:2.0
PRODID:-//ChamberMaster//Event Calendar 2.0//EN
METHOD:PUBLISH
X-PUBLISHED-TTL:P3D
REFRESH-INTERVAL:P3D
CALSCALE:GREGORIAN
BEGIN:VEVENT
DTSTART:20240912T000000Z
DTEND:20240912T040000Z
X-MICROSOFT-CDO-ALLDAYEVENT:FALSE
SUMMARY:57th Annual Industrial Barbecue
DESCRIPTION:57th Annual Industrial Barbecue\n\nWednesday\, September 11\, 2024\, 5:00pm - 9:00pm \n\nUniversity Plaza Waterfront Hotel\, 110 W. Fremont St.\, Stockton 95202   \n\n\n\nFor last minute tickets please contact Norman Perez\, (209) 292-8426 or norman@stocktonchamber.org.\n\n \n\nThe Industrial Barbecue honors those major manufacturers and industries that have located in or expanded their operations within San Joaquin County.  Each of these companies represent over $1 million in plant and equipment investment\, and together total thousands of new employees in our community. \n\n \n\nCriteria:\n\nThose INDUSTRIAL BUSINESSES eligible for awards must be located in an industrial zone\, and be in operation by July 1\, 2024.  They must also meet or exceed two of the following requirements:  20 new jobs to San Joaquin County\, 20\,000 square feet of new or expanded roofed facility or $1 million capital investment. \n\n\n\n2024 Honorees:\n\nGoodwill Industries\n\nHeirloom Carbon Technologies\n\nKevin's Natural Foods\n\nMacy's\, Inc.\n\nPremier Finishing\n\nSimwon America Corp.\n\nVaz Warehouse\n\n\n\n\n\nPrevious Honorees Include:       \n\nAir Transport International\, Inc.\, Amazon Fulfillment\, Applied Aerospace Structures Corp.\, Central Plastics\, Cepheid\, Costco Wholesale Corp.\, CRM (Crumb Rubber Manufacturers)\, Epic Plastics\, Delicato Family Vineyards\,Golden State Lumber\, The Herrick Corporation Stockton Steel\, Home Depot Distribution Center\, JM Eagle\, KeHE Distributors/Nature's Best Powered by KeHE\, Knapheide Truck Equipment Center\, KraftHeinz/Ryder\, The Martin Brower Company\, Nature Kist Snacks\, Scientific Specialties\, Inc.\, Sunnyvalley Smoked Meats\, Trinchero Family Estates\, UniFirst Corporation\, Yara North America and others.\n\n\n\nSponsorship Levels:\n\n$1350 Platinum Sponsor\n\nSponsorship includes eight dinner tickets (reserved table)\, two tickets to honorees reception (reception will be held 4:00-5:00PM before the event\, 9/11\, at the University Plaza Waterfront Hotel\, recognition in all pre-event publicity and mailings (logo & name)\, logo on the event day PowerPoint\, logo on the Industrial Barbecue page on the Chamber website\, promotion as sponsor on Chamber social media\, recognition from podium during event\, signage at table. \n\n \n\n$1000 Gold Sponsor\n\nSponsorship includes four dinner tickets (reserved seating)\, recognition in all pre-event publicity mailings\, listing of company in program\, listing of company on the Industrial Barbecue page on the Chamber website\, company listed as sponsor on the event day PowerPoint\, recognition from podium during event\, company signage at table.\n\n \n\n$700 Silver Sponsor\n\nSponsorship includes two dinner tickets (reserved seating)\, recognition in all pre-event publicity and mailings\, listing of company in program\, listing of company on the Industrial Barbecue page on the Chamber website\, company listed as sponsor on the event day PowerPoint\, recognition from podium during event\, signage at table.\n\n\n\nAny questions please contact Norman Perez\, (209) 292-8426 or norman@stocktonchamber.org.
X-ALT-DESC;FMTTYPE=text/html:<span style="font-size:14px\;"><strong>&#8203\;57th Annual Industrial Barbecue</strong><br />\nWednesday\, September 11\, 2024\, 5:00pm - 9:00pm&nbsp\;<br />\nUniversity Plaza Waterfront Hotel\, 110 W. Fremont St.\, Stockton 95202&nbsp\; &nbsp\;<br />\n<br />\n<strong><u>For last minute tickets please contact Norman Perez\, (209) 292-8426 or norman@stocktonchamber.org.</u></strong><br />\n&nbsp\;<br />\nThe Industrial Barbecue honors those major manufacturers and industries that have located in or expanded their operations within San Joaquin County.&nbsp\; Each of these companies represent over $1 million in plant and equipment investment\, and together total thousands of new employees in our community.&nbsp\;<br />\n&nbsp\;<br />\n<strong><u>Criteria:</u></strong><br />\nThose <strong>INDUSTRIAL BUSINESSES</strong> eligible for awards must be located in an industrial zone\, and be in operation by July 1\, 2024.&nbsp\; They must also meet or exceed two of the following requirements:&nbsp\; 20 new jobs to San Joaquin County\, 20\,000 square feet of new or expanded roofed facility or $1 million capital investment.&nbsp\;<br />\n<br />\n<strong><em><u>2024 Honorees:</u></em></strong><br />\n<span style="font-family:arial\;">Goodwill Industries<br />\nHeirloom Carbon Technologies<br />\nKevin&#39\;s Natural Foods<br />\nMacy&#39\;s\, Inc.<br />\nPremier Finishing<br />\nSimwon America Corp.<br />\nVaz Warehouse</span></span><br />\n<br />\n<br />\n<span style="font-size:14px\;"><em><u><strong>Previous Honorees Include:</strong>&nbsp\;&nbsp\;</u>&nbsp\;&nbsp\;&nbsp\;&nbsp\;&nbsp\;<br />\nAir Transport International\, Inc.\, <span style="letter-spacing:-.3pt\;">Amazon Fulfillment\, Applied Aerospace Structures Corp.\, </span>Central Plastics<span style="letter-spacing:-.3pt\;">\, </span>Cepheid<span style="letter-spacing:-.3pt\;">\, Costco Wholesale Corp.\, CRM (Crumb Rubber Manufacturers)\, Epic Plastics\, </span><span style="color:black\;">Delicato Family Vineyards\,</span><span style="letter-spacing:-.3pt\;">Golden State Lumber\, </span><span style="color:black\;">The Herrick Corporation Stockton Steel\, </span><span style="letter-spacing:-.3pt\;">Home Depot Distribution Center\, JM Eagle\, KeHE Distributors/Nature&#39\;s Best Powered by KeHE\, </span>Knapheide Truck Equipment Center<span style="letter-spacing:-.3pt\;">\, </span>KraftHeinz/Ryder<span style="letter-spacing:-.3pt\;">\, The Martin Brower Company\, Nature Kist Snacks\, Scientific Specialties\, Inc.\, Sunnyvalley Smoked Meats\, Trinchero Family Estates\, UniFirst Corporation\, Yara North America and others.<br />\n<br />\n<u><strong>Sponsorship Levels:</strong></u></span></em></span><br />\n<span style="font-size:12px\;"><span style="font-family:arial\;"><strong>$1350 Platinum Sponsor</strong><br />\nSponsorship includes eight dinner tickets (reserved table)\, two tickets to honorees reception (reception will be held 4:00-5:00PM before the event\, 9/11\, at the University Plaza Waterfront Hotel\, recognition in all pre-event publicity and mailings (logo &amp\; name)\, logo on the event day PowerPoint\, logo on the Industrial Barbecue page on the Chamber website\, promotion as sponsor on Chamber social media\, recognition from podium during event\, signage at table.&nbsp\;<br />\n&nbsp\;<br />\n<strong>$1000 Gold Sponsor</strong><br />\nSponsorship includes four dinner tickets (reserved seating)\, recognition in all pre-event publicity mailings\, listing of company in program\, listing of company on the Industrial Barbecue page on the Chamber website\, company listed as sponsor on the event day PowerPoint\, recognition from podium during event\, company signage at table.<br />\n&nbsp\;<br />\n<strong>$700 Silver Sponsor</strong><br />\nSponsorship includes two dinner tickets (reserved seating)\, recognition in all pre-event publicity and mailings\, listing of company in program\, listing of company on the Industrial Barbecue page on the Chamber website\, company listed as sponsor on the event day PowerPoint\, recognition from podium during event\, signage at table.</span></span><br />\n<br />\n<span style="font-size:12px\;"><span style="font-family:arial\;"><strong><u>Any questions please contact Norman Perez\, (209) 292-8426 or <a href="mailto:norman@stocktonchamber.org">norman@stocktonchamber.org</a>.</u></strong></span></span>
LOCATION:University Plaza Waterfront Hotel 110 W. Fremont St. Stockton\, CA 95202
UID:e.2412.5074535
SEQUENCE:3
DTSTAMP:20260421T233822Z
URL:https://cm.stocktonchamber.org/events/details/57th-annual-industrial-barbecue-5074535
END:VEVENT

END:VCALENDAR
