BEGIN:VCALENDAR
VERSION:2.0
PRODID:-//ChamberMaster//Event Calendar 2.0//EN
METHOD:PUBLISH
X-PUBLISHED-TTL:P3D
REFRESH-INTERVAL:P3D
CALSCALE:GREGORIAN
BEGIN:VEVENT
DTSTART:20241030T003000Z
DTEND:20241030T033000Z
X-MICROSOFT-CDO-ALLDAYEVENT:FALSE
SUMMARY:39th Annual San Joaquin County Agricultural Hall of Fame
DESCRIPTION:The 39th Annual San Joaquin County Agricultural Hall of Fame Dinner is SOLD OUT!\n\n\n\nTo get added to the waitlist please contact Norman Perez\, (209) 292-8426 or norman@stocktonchamber.org.\n\n\n\n2024 Honorees:\n\nSteve & Jeanne Coldani\, Calivines Winery & Olive Mill\n\nMichael Manna\, Manna Ranch\n\nJames Mulrooney\, Mulrooney Auction Company\n\nRichard W. Pombo\n\nKris Gutierrez\, KG Vineyard Management (Posthumous)\n\n\n\nThe San Joaquin County Ag Hall of Fame celebrates individuals who have significantly shaped our agricultural heritage. This honor recognizes the efforts and history of those who have enriched our lives and laid the groundwork for our future. The agricultural community exemplifies the spirit of collaboration and tradition\, carried forward by those who made great personal and physical sacrifices to nurture our land and community.\n\n\n\nTickets $70 each\n\nPre-paid Reservations Only\n\nSponsorship Available!\n\n\n\nAny questions please contact Norman Perez\, (209) 292-8426 or norman@stocktonchamber.org.\n\n\n\nSponsorship Levels:\n\n\n\n$1\,300 Platinum Sponsor\n\nSponsorship includes eight dinner tickets (reserved table)\, recognition in all pre-event publicity and mailings\, company logo on the Ag Hall of Fame page on the Chamber website\, promotion as sponsor on Chamber social media\, company listed as sponsor in program\, recognition during event\, and signage at table.\n\n \n\n$1\,000 Gold Sponsor\n\nSponsorship includes four dinner tickets (reserved seating)\, recognition in all pre-event publicity and mailings\, company listing on the Ag Hall of Fame page on the Chamber website\, listing in program and recognition during event\, signage at table.\n\n \n\n$750 Silver Sponsor\n\nSponsorship includes two dinner tickets (reserved seating)\, recognition in all pre-event publicity and mailings\, company listing on the Ag Hall of Fame page on the Chamber website\, listing in program and recognition during event\, and signage at table.
X-ALT-DESC;FMTTYPE=text/html:<p style="box-sizing: border-box\; margin: 0px 0px 1rem\; padding: 0px\; font-size: 16px\; line-height: 1.6\; text-rendering: optimizelegibility\; color: rgb(34\, 34\, 34)\; font-family: Lato\, sans-serif\; background-color: rgb(254\, 254\, 254)\;"><span style="box-sizing: border-box\; font-weight: bolder\; line-height: inherit\;"><span style="box-sizing: border-box\; font-size: 20px\;">The 39th Annual San Joaquin County Agricultural Hall of Fame Dinner is <u><em>SOLD OUT!</em></u></span></span><br />\n<br />\nTo get added to the waitlist please contact Norman Perez\, (209) 292-8426&nbsp\;or&nbsp\;<a href="mailto:norman@stocktonchamber.org">norman@stocktonchamber.org</a>.<br />\n<br />\n<span style="font-size:16px\;"><span style="font-family:arial\;"><strong><em><u>2024 Honorees:</u></em></strong><br />\n<strong>Steve &amp\; Jeanne Coldani</strong>\, Calivines Winery &amp\; Olive Mill<br />\n<strong>Michael Manna</strong>\, Manna Ranch<br />\n<strong>James Mulrooney</strong>\, Mulrooney Auction Company<br />\n<strong>Richard W. Pombo</strong><br />\n<strong>Kris Gutierrez</strong>\, KG Vineyard Management (Posthumous)</span></span><br />\n<br />\nThe San Joaquin County Ag Hall of Fame celebrates individuals who have significantly shaped our agricultural heritage. This honor recognizes the efforts and history of those who have enriched our lives and laid the groundwork for our future. The agricultural community exemplifies the spirit of collaboration and tradition\, carried forward by those who made great personal and physical sacrifices to nurture our land and community.<br />\n<br />\nTickets $70 each<br />\nPre-paid Reservations Only<br />\nSponsorship Available!<br />\n<br />\n<strong style="color: rgb(34\, 34\, 34)\; font-family: Lato\, sans-serif\; font-size: 14px\; background-color: rgb(254\, 254\, 254)\;">Any questions please contact Norman Perez\, (209) 292-8426 or&nbsp\;<u><a href="mailto:norman@stocktonchamber.org">norman@stocktonchamber.org</a>.</u></strong><br />\n<br />\n<span style="box-sizing: border-box\; font-weight: bolder\; line-height: inherit\;"><span style="box-sizing: border-box\; font-size: 20px\;"><span style="font-size:14px\;"><u><em><strong><span style="font-size:18px\;">Sponsorship Levels:</span></strong></em></u></span></span></span><br />\n<br />\n<span style="font-size:14px\;"><span style="font-family:albertus extra bold\,sans-serif\;"><strong>$1\,300 Platinum Sponsor</strong></span><br />\n<span style="font-family:calibri\,sans-serif\;">Sponsorship includes eight dinner tickets (reserved table)\, recognition in all pre-event publicity and mailings\, company logo on the Ag Hall of Fame page on the Chamber website\, promotion as sponsor on Chamber social media\, company listed as sponsor in program\, recognition during event\, and signage at table.</span><br />\n&nbsp\;<br />\n<strong><span style="font-family:albertus extra bold\,sans-serif\;">$1\,000 Gold Sponsor</span></strong><br />\n<span style="font-family:calibri\,sans-serif\;">Sponsorship includes four dinner tickets (reserved seating)\, recognition in all pre-event publicity and mailings\, company listing on the Ag Hall of Fame page on the Chamber website\, listing in program and recognition during event\, signage at table.</span><br />\n&nbsp\;<br />\n<strong><span style="font-family:albertus extra bold\,sans-serif\;">$750 Silver Sponsor</span></strong><br />\n<span style="font-family:calibri\,sans-serif\;">Sponsorship includes two dinner tickets (reserved seating)\, recognition in all pre-event publicity and mailings\, company listing on the Ag Hall of Fame page on the Chamber website\, listing in program and recognition during event\, and signage at table.</span></span></p>\n
LOCATION:Robert J. Cabral Ag Center 2101 E. Earhart Ave.\, Stockton\, CA 95206
UID:e.2412.5074552
SEQUENCE:3
DTSTAMP:20260421T205953Z
URL:https://cm.stocktonchamber.org/events/details/39th-annual-san-joaquin-county-agricultural-hall-of-fame-5074552
END:VEVENT

END:VCALENDAR
