BEGIN:VCALENDAR
VERSION:2.0
PRODID:-//ChamberMaster//Event Calendar 2.0//EN
METHOD:PUBLISH
X-PUBLISHED-TTL:P3D
REFRESH-INTERVAL:P3D
CALSCALE:GREGORIAN
BEGIN:VEVENT
DTSTART:20231128T190000Z
DTEND:20231128T213000Z
X-MICROSOFT-CDO-ALLDAYEVENT:FALSE
SUMMARY:36th Annual ATHENA Awards Luncheon
DESCRIPTION:The 2023 ATHENA Awards Luncheon is SOLD OUT!  To get added to the waiting list please call (209) 547-2770 or email tiffany@stocktonchamber.org.\n\n\n\nTo watch a livestream of the event visit: https://stocktonchamber.org/athena-awards/\n\n\n\n2023 ATHENA Leadership Award Recipient:\n\nLeticia Robles\, Pacific Homecare Services\n\n\n\n2023 ATHENA Young Professional Leadership Award Recipient:\n\nErika Hermosillo\, Reinvent Stockton Foundation\n\n\n\nOn Tuesday\, November 28\, 2023\, we will present the ATHENA Leadership Award and ATHENA Young Professional Award.  The recipients have achieved excellence in their profession\, served our community in a meaningful way\, and have assisted women in reaching their full potential.
X-ALT-DESC;FMTTYPE=text/html:<p>The 2023 ATHENA Awards Luncheon is SOLD OUT!&nbsp\; To get added to the waiting list please call (209) 547-2770 or email <a href="mailto:tiffany@stocktonchamber.org">tiffany@stocktonchamber.org</a>.<br />\n<br />\nTo watch a livestream of the event visit:&nbsp\;<a href="https://stocktonchamber.org/athena-awards/">https://stocktonchamber.org/athena-awards/</a><br />\n<br />\n<u><em>2023&nbsp\;ATHENA Leadership Award Recipient:</em></u><br />\n<strong>Leticia Robles</strong>\, Pacific Homecare Services<br />\n<br />\n<u><em>2023&nbsp\;ATHENA Young Professional Leadership Award Recipient:</em></u><br />\n<strong>Erika Hermosillo</strong>\, Reinvent Stockton Foundation<br />\n<br />\n<span style="font-family:tahoma\,sans-serif\;"><span style="font-size:10.0pt\;">On Tuesday\, November 28\, 2023\, we will present the ATHENA Leadership Award and ATHENA Young Professional Award.&nbsp\; The recipients&nbsp\;have achieved excellence in their profession\, served our community in a meaningful way\, and have assisted women in reaching their full potential.&nbsp\;</span></span></p>\n
LOCATION:Stockton Golf & Country Club 3800 W. Country Club Blvd\, Stockton 95204
UID:e.2412.5074041
SEQUENCE:3
DTSTAMP:20260422T133443Z
URL:https://cm.stocktonchamber.org/events/details/36th-annual-athena-awards-luncheon-5074041
END:VEVENT

END:VCALENDAR
