BEGIN:VCALENDAR
VERSION:2.0
PRODID:-//ChamberMaster//Event Calendar 2.0//EN
METHOD:PUBLISH
X-PUBLISHED-TTL:P3D
REFRESH-INTERVAL:P3D
CALSCALE:GREGORIAN
BEGIN:VEVENT
DTSTART:20140525T020000Z
DTEND:20140525T040000Z
X-MICROSOFT-CDO-ALLDAYEVENT:FALSE
SUMMARY:20th Year Appreciation Concert
DESCRIPTION:Gospel Concert featuring: Lawrence Matthews\; Pastor Samuel Smith Jr.\; Emmanuel Baptist Church Choir\; Sylvester Burks and Kingdom Business\; Pastor Bryant Wyatt\; and Dwayne Zachery.\nThere is a $20.00 donation per person must be paid prior to concert date.
X-ALT-DESC;FMTTYPE=text/html:Gospel Concert featuring: Lawrence Matthews\; Pastor Samuel Smith Jr.\; Emmanuel Baptist Church Choir\; Sylvester Burks and Kingdom Business\; Pastor Bryant Wyatt\; and Dwayne Zachery.\nThere is a $20.00 donation per person must be paid prior to concert date.
LOCATION:Emmanuel Baptist Church 715 S. Windsor Ave. Stockton\, CA 95205
UID:e.2412.5067140
SEQUENCE:3
DTSTAMP:20260421T083840Z
URL:https://cm.stocktonchamber.org/events/details/20th-year-appreciation-concert-05-24-2014-5067140
END:VEVENT

END:VCALENDAR
